Workbook

Sheet 【事前入札】7月大阪アパレル大会
A1: - | B1: - | C1: - | D1: - | E1: - | F1: - | G1: - | H1: - | I1: - | J1: - | K1: - | L1: - | M1: - | N1: -
C2: 2025年7月開催 | H2: YBA大阪アパレル大会 事前入札フォーマット | O2: 箱番号 | P2: ー | Q2: 枝番号
F3: 現在入札金額合計： | H3: =SUM(H5:H1048576) -> 0 | J3: 入札業者様： | K3: =IF(Q5="","右側の入札業者情報を入力してください⇒",Q5) -> 右側の入札業者情報を入力してください⇒ | P3: - | R3: =O3&P3&Q3 -> - | S3: =IFERROR(IF(R3="","検索",HYPERLINK("#H"&MATCH(R3,G:G,0),"検索")),"対象が見つかりません") -> 検索
C4: 箱番号 | E4: 枝番号 | F4: 巻き | H4: 入札金額 | I4: ブランド | J4: 品目 | K4: 素材/備考 | L4: 箱番号 | N4: 枝番号
A5: =$C$3&B5 -> 1-1 | B5: =C5&-E5 -> 1-1 | C5: 1 | D5: - | E5: 1 | G5: =C5&-E5 -> 1-1 | I5: LOUIS VUITTON | J5: パーカー | K5: FLKM99IS9/M/レディース | L5: =C5 -> 1 | M5: - | N5: =E5 -> 1 | O5: 会社名 | U5: 担当者
A6: =$C$3&B6 -> 1-2 | B6: =C6&-E6 -> 1-2 | C6: 1 | D6: - | E6: 2 | G6: =C6&-E6 -> 1-2 | I6: GUCCI | J6: パンツ | K6: 701630 XJELH/M/メンズ | L6: =C6 -> 1 | M6: - | N6: =E6 -> 2 | O6: 電話番号
A7: =$C$3&B7 -> 1-3 | B7: =C7&-E7 -> 1-3 | C7: 1 | D7: - | E7: 3 | G7: =C7&-E7 -> 1-3 | I7: CHANEL | J7: ワンピース | K7: P01518V02259 93P/38/レディース | L7: =C7 -> 1 | M7: - | N7: =E7 -> 3
A8: =$C$3&B8 -> 1-4 | B8: =C8&-E8 -> 1-4 | C8: 1 | D8: - | E8: 4 | G8: =C8&-E8 -> 1-4 | I8: CHANEL | J8: ジャケット・ブルゾン | K8: P22075V01420 03A/34/レディース | L8: =C8 -> 1 | M8: - | N8: =E8 -> 4 | O8: ※入札データはJAAオークションHPよりダウンロードしたものをご利用ください。 データの送付は、data@yokohama-auction.comまで送付ください。 データ締切：16日 AM7：00 までとなります。 締切時間をすぎたものは受付できない可能性がございますのでご了承くださいませ。 データのご提出は必ず「Excel」データでお願いいたします。 「numbers」などでご提出されないようご注意くださいませ。 ・入札は100円単位となります。100円未満の単位を入札された場合、すべて切り捨てとなります。 システムの関係上、入札取消となる場合もございますのでご注意ください。 ・段違いや入札金額の桁違いがありませんように、よくお確かめの上でご入力をお願い致します。 金額の変更等がありましたら、訂正後再度、フォーマットの送信とお電話でのご連絡をお願い致します。
A9: =$C$3&B9 -> 1-5 | B9: =C9&-E9 -> 1-5 | C9: 1 | D9: - | E9: 5 | G9: =C9&-E9 -> 1-5 | I9: CHANEL | J9: ワンピース | K9: P06304V04615 96P/40/レディース | L9: =C9 -> 1 | M9: - | N9: =E9 -> 5
A10: =$C$3&B10 -> 1-6 | B10: =C10&-E10 -> 1-6 | C10: 1 | D10: - | E10: 6 | G10: =C10&-E10 -> 1-6 | I10: CHANEL | J10: パーカー | K10: P19888V01177 02A/42/レディース | L10: =C10 -> 1 | M10: - | N10: =E10 -> 6
A11: =$C$3&B11 -> 1-7 | B11: =C11&-E11 -> 1-7 | C11: 1 | D11: - | E11: 7 | G11: =C11&-E11 -> 1-7 | I11: CHANEL | J11: ワンピース | K11: P08994V05743 97S/34/レディース | L11: =C11 -> 1 | M11: - | N11: =E11 -> 7
A12: =$C$3&B12 -> 1-8 | B12: =C12&-E12 -> 1-8 | C12: 1 | D12: - | E12: 8 | G12: =C12&-E12 -> 1-8 | I12: HERMES | J12: トップス | K12: *12-5610/38/メンズ | L12: =C12 -> 1 | M12: - | N12: =E12 -> 8
A13: =$C$3&B13 -> 1-9 | B13: =C13&-E13 -> 1-9 | C13: 1 | D13: - | E13: 9 | G13: =C13&-E13 -> 1-9 | I13: HERMES | J13: コート | K13: レディース | L13: =C13 -> 1 | M13: - | N13: =E13 -> 9
A14: =$C$3&B14 -> 1-10 | B14: =C14&-E14 -> 1-10 | C14: 1 | D14: - | E14: 10 | G14: =C14&-E14 -> 1-10 | I14: CHANEL | J14: スーツ・セットアップ | K14: レディース | L14: =C14 -> 1 | M14: - | N14: =E14 -> 10 | O14: 「編集不可」「番号管理シート」の編集・削除は行わないようご注意くださいませ。
A15: =$C$3&B15 -> 2-1 | B15: =C15&-E15 -> 2-1 | C15: 2 | D15: - | E15: 1 | G15: =C15&-E15 -> 2-1 | I15: CELINE | J15: コート | K15: レディース | L15: =C15 -> 2 | M15: - | N15: =E15 -> 1
A16: =$C$3&B16 -> 2-2 | B16: =C16&-E16 -> 2-2 | C16: 2 | D16: - | E16: 2 | G16: =C16&-E16 -> 2-2 | I16: DOLCE&GABBANA | J16: コート | K16: レディース | L16: =C16 -> 2 | M16: - | N16: =E16 -> 2
A17: =$C$3&B17 -> 2-3 | B17: =C17&-E17 -> 2-3 | C17: 2 | D17: - | E17: 3 | G17: =C17&-E17 -> 2-3 | I17: DOLCE&GABBANA | J17: スーツ・セットアップ | K17: レディース | L17: =C17 -> 2 | M17: - | N17: =E17 -> 3
A18: =$C$3&B18 -> 2-4 | B18: =C18&-E18 -> 2-4 | C18: 2 | D18: - | E18: 4 | G18: =C18&-E18 -> 2-4 | I18: CELINE | J18: スーツ・セットアップ | K18: レディース | L18: =C18 -> 2 | M18: - | N18: =E18 -> 4
A19: =$C$3&B19 -> 2-5 | B19: =C19&-E19 -> 2-5 | C19: 2 | D19: - | E19: 5 | G19: =C19&-E19 -> 2-5 | I19: CHANEL | J19: コート | K19: P22056V12996 03A/36/レディース | L19: =C19 -> 2 | M19: - | N19: =E19 -> 5
A20: =$C$3&B20 -> 2-6 | B20: =C20&-E20 -> 2-6 | C20: 2 | D20: - | E20: 6 | G20: =C20&-E20 -> 2-6 | I20: CHANEL | J20: ジャケット・ブルゾン | K20: P22896V13705 04P/36/レディース | L20: =C20 -> 2 | M20: - | N20: =E20 -> 6
A21: =$C$3&B21 -> 2-7 | B21: =C21&-E21 -> 2-7 | C21: 2 | D21: - | E21: 7 | G21: =C21&-E21 -> 2-7 | I21: CHANEL | J21: ジャケット・ブルゾン | K21: P07027W02301 96P/レディース | L21: =C21 -> 2 | M21: - | N21: =E21 -> 7
A22: =$C$3&B22 -> 2-8 | B22: =C22&-E22 -> 2-8 | C22: 2 | D22: - | E22: 8 | G22: =C22&-E22 -> 2-8 | I22: CHANEL | J22: コート | K22: P45582V33845 13P/42/レディース | L22: =C22 -> 2 | M22: - | N22: =E22 -> 8
A23: =$C$3&B23 -> 2-9 | B23: =C23&-E23 -> 2-9 | C23: 2 | D23: - | E23: 9 | G23: =C23&-E23 -> 2-9 | I23: MONCLER | J23: ジャケット・ブルゾン | K23: CAPBRETON/0/メンズ | L23: =C23 -> 2 | M23: - | N23: =E23 -> 9
A24: =$C$3&B24 -> 2-10 | B24: =C24&-E24 -> 2-10 | C24: 2 | D24: - | E24: 10 | G24: =C24&-E24 -> 2-10 | I24: CHANEL | J24: ジャージ・スウェット | K24: P57465K07601 17K/36/レディース | L24: =C24 -> 2 | M24: - | N24: =E24 -> 10
A25: =$C$3&B25 -> 3-1 | B25: =C25&-E25 -> 3-1 | C25: 3 | D25: - | E25: 1 | G25: =C25&-E25 -> 3-1 | I25: CHANEL | J25: アンサンブル | K25: P26599W03641 05A/36/レディース | L25: =C25 -> 3 | M25: - | N25: =E25 -> 1
A26: =$C$3&B26 -> 3-2 | B26: =C26&-E26 -> 3-2 | C26: 3 | D26: - | E26: 2 | G26: =C26&-E26 -> 3-2 | I26: GUCCI | J26: シャツ | K26: 779330/コットン100%/36 | L26: =C26 -> 3 | M26: - | N26: =E26 -> 2
... A60: =$C$3&B60 -> 6-6 | B60: =C60&-E60 -> 6-6 | C60: 6 | D60: - | E60: 6 | G60: =C60&-E60 -> 6-6 | I60: HERMES | J60: ジャケット・ブルゾン | K60: コットン/39 | L60: =C60 -> 6 | M60: - | N60: =E60 -> 6
A61: =$C$3&B61 -> 6-7 | B61: =C61&-E61 -> 6-7 | C61: 6 | D61: - | E61: 7 | G61: =C61&-E61 -> 6-7 | I61: LOUIS VUITTON | J61: パンツ | K61: 38 | L61: =C61 -> 6 | M61: - | N61: =E61 -> 7
A62: =$C$3&B62 -> 6-8 | B62: =C62&-E62 -> 6-8 | C62: 6 | D62: - | E62: 8 | G62: =C62&-E62 -> 6-8 | I62: HERMES | J62: トップス | K62: ポロシャツ | L62: =C62 -> 6 | M62: - | N62: =E62 -> 8
A63: =$C$3&B63 -> 6-9 | B63: =C63&-E63 -> 6-9 | C63: 6 | D63: - | E63: 9 | G63: =C63&-E63 -> 6-9 | I63: BURBERRY | J63: パンツ | K63: 8023139/48/メンズ | L63: =C63 -> 6 | M63: - | N63: =E63 -> 9
A64: =$C$3&B64 -> 6-10 | B64: =C64&-E64 -> 6-10 | C64: 6 | D64: - | E64: 10 | G64: =C64&-E64 -> 6-10 | I64: HERMES | J64: コート | K64: カシミア×アンゴラ×ウール/50/チェスターコート | L64: =C64 -> 6 | M64: - | N64: =E64 -> 10
A65: =$C$3&B65 -> 7-1 | B65: =C65&-E65 -> 7-1 | C65: 7 | D65: - | E65: 1 | G65: =C65&-E65 -> 7-1 | I65: HERMES | J65: シャツ | K65: コーチングコットンドレスシャツ | L65: =C65 -> 7 | M65: - | N65: =E65 -> 1
A66: =$C$3&B66 -> 7-2 | B66: =C66&-E66 -> 7-2 | C66: 7 | D66: - | E66: 2 | G66: =C66&-E66 -> 7-2 | I66: GUCCI | J66: コート | K66: ウール/36/チェスターコート | L66: =C66 -> 7 | M66: - | N66: =E66 -> 2
A67: =$C$3&B67 -> 7-3 | B67: =C67&-E67 -> 7-3 | C67: 7 | D67: - | E67: 3 | G67: =C67&-E67 -> 7-3 | I67: CHANEL | J67: ニット・セーター | K67: P47224/カシミア100%/レディース/スタンドカラー ニット | L67: =C67 -> 7 | M67: - | N67: =E67 -> 3
A68: =$C$3&B68 -> 7-4 | B68: =C68&-E68 -> 7-4 | C68: 7 | D68: - | E68: 4 | G68: =C68&-E68 -> 7-4 | I68: CHANEL | J68: ワンピース | K68: P53153/レディース/ノースリーブ ホルターネック ワンピース | L68: =C68 -> 7 | M68: - | N68: =E68 -> 4
A69: =$C$3&B69 -> 7-5 | B69: =C69&-E69 -> 7-5 | C69: 7 | D69: - | E69: 5 | G69: =C69&-E69 -> 7-5 | I69: LOUIS VUITTON | J69: Tシャツ | K69: 2018SS ワールドネームグラフティーTシャツ | L69: =C69 -> 7 | M69: - | N69: =E69 -> 5
A70: =$C$3&B70 -> 7-6 | B70: =C70&-E70 -> 7-6 | C70: 7 | D70: - | E70: 6 | G70: =C70&-E70 -> 7-6 | I70: DIOR | J70: スーツ・セットアップ | K70: レディース/フリル飾り セットアップ | L70: =C70 -> 7 | M70: - | N70: =E70 -> 6
A71: =$C$3&B71 -> 7-7 | B71: =C71&-E71 -> 7-7 | C71: 7 | D71: - | E71: 7 | G71: =C71&-E71 -> 7-7 | I71: HERMES | J71: トップス | K71: M/レディース | L71: =C71 -> 7 | M71: - | N71: =E71 -> 7
A72: =$C$3&B72 -> 7-8 | B72: =C72&-E72 -> 7-8 | C72: 7 | D72: - | E72: 8 | G72: =C72&-E72 -> 7-8 | I72: HOMME PLISSE | J72: パンツ | K72: HP16-JF153/3/メンズ | L72: =C72 -> 7 | M72: - | N72: =E72 -> 8
A73: =$C$3&B73 -> 7-9 | B73: =C73&-E73 -> 7-9 | C73: 7 | D73: - | E73: 9 | G73: =C73&-E73 -> 7-9 | I73: LOUIS VUITTON | J73: Tシャツ | K73: コットン/シルク/XS | L73: =C73 -> 7 | M73: - | N73: =E73 -> 9
...

Sheet 編集不可
A1: - | B1: - | C1: - | D1: - | E1: - | F1: - | G1: - | H1: - | I1: - | J1: - | K1: - | L1: - | M1: - | N1: -
C2: 2025年7月開催 | H2: YBA大阪アパレル大会 事前入札フォーマット | O2: 箱番号 | P2: ー | Q2: 枝番号
C3: =【事前入札】7月大阪アパレル大会!C3 -> 0 | F3: 現在入札金額合計： | H3: =SUM(H5:H1048576) -> 0 | J3: 入札業者様： | K3: =IF(Q5="","右側の入札業者情報を入力してください⇒",Q5) -> 右側の入札業者情報を入力してください⇒ | P3: - | R3: =O3&P3&Q3 -> - | S3: =IFERROR(IF(R3="","検索",HYPERLINK("#H"&MATCH(R3,G:G,0),"検索")),"対象が見つかりません") -> 検索
C4: 箱番号 | E4: 枝番号 | F4: 巻き | H4: 入札金額 | I4: ブランド | J4: 品目 | K4: 素材/備考 | L4: 箱番号 | N4: 枝番号
A5: =$C$3&B5 -> 0501-1 | B5: =C5&-E5 -> 501-1 | C5: 501 | D5: - | E5: 1 | G5: =C5&-E5 -> 501-1 | H5: =VLOOKUP($B5,番号管理シート!$B:$D,3,FALSE) -> 0 | I5: LOUIS VUITTON | J5: パーカー | K5: FLKM99IS9/M/レディース | L5: =C5 -> 501 | M5: - | N5: =E5 -> 1 | O5: 会社名 | U5: 担当者
A6: =$C$3&B6 -> 0501-2 | B6: =C6&-E6 -> 501-2 | C6: 501 | D6: - | E6: 2 | G6: =C6&-E6 -> 501-2 | H6: =VLOOKUP($B6,番号管理シート!$B:$D,3,FALSE) -> 0 | I6: GUCCI | J6: パンツ | K6: 701630 XJELH/M/メンズ | L6: =C6 -> 501 | M6: - | N6: =E6 -> 2 | O6: 電話番号
A7: =$C$3&B7 -> 0501-3 | B7: =C7&-E7 -> 501-3 | C7: 501 | D7: - | E7: 3 | G7: =C7&-E7 -> 501-3 | H7: =VLOOKUP($B7,番号管理シート!$B:$D,3,FALSE) -> 0 | I7: CHANEL | J7: ワンピース | K7: P01518V02259 93P/38/レディース | L7: =C7 -> 501 | M7: - | N7: =E7 -> 3
A8: =$C$3&B8 -> 0501-4 | B8: =C8&-E8 -> 501-4 | C8: 501 | D8: - | E8: 4 | G8: =C8&-E8 -> 501-4 | H8: =VLOOKUP($B8,番号管理シート!$B:$D,3,FALSE) -> 0 | I8: CHANEL | J8: ジャケット・ブルゾン | K8: P22075V01420 03A/34/レディース | L8: =C8 -> 501 | M8: - | N8: =E8 -> 4 | O8: ※入札データはJAAオークションHPよりダウンロードしたものをご利用ください。 データの送付は、data@yokohama-auction.comまで送付ください。 データ締切：16日 AM7：00 までとなります。 締切時間をすぎたものは受付できない可能性がございますのでご了承くださいませ。 データのご提出は必ず「Excel」データでお願いいたします。 「numbers」などでご提出されないようご注意くださいませ。 ・入札は100円単位となります。100円未満の単位を入札された場合、すべて切り捨てとなります。 システムの関係上、入札取消となる場合もございますのでご注意ください。 ・段違いや入札金額の桁違いがありませんように、よくお確かめの上でご入力をお願い致します。 金額の変更等がありましたら、訂正後再度、フォーマットの送信とお電話でのご連絡をお願い致します。
A9: =$C$3&B9 -> 0501-6 | B9: =C9&-E9 -> 501-6 | C9: 501 | D9: - | E9: 6 | G9: =C9&-E9 -> 501-6 | H9: =VLOOKUP($B9,番号管理シート!$B:$D,3,FALSE) -> 0 | I9: CHANEL | J9: ワンピース | K9: P06304V04615 96P/40/レディース | L9: =C9 -> 501 | M9: - | N9: =E9 -> 6
A10: =$C$3&B10 -> 0501-8 | B10: =C10&-E10 -> 501-8 | C10: 501 | D10: - | E10: 8 | G10: =C10&-E10 -> 501-8 | H10: =VLOOKUP($B10,番号管理シート!$B:$D,3,FALSE) -> 0 | I10: CHANEL | J10: パーカー | K10: P19888V01177 02A/42/レディース | L10: =C10 -> 501 | M10: - | N10: =E10 -> 8
A11: =$C$3&B11 -> 0501-9 | B11: =C11&-E11 -> 501-9 | C11: 501 | D11: - | E11: 9 | G11: =C11&-E11 -> 501-9 | H11: =VLOOKUP($B11,番号管理シート!$B:$D,3,FALSE) -> 0 | I11: CHANEL | J11: ワンピース | K11: P08994V05743 97S/34/レディース | L11: =C11 -> 501 | M11: - | N11: =E11 -> 9
A12: =$C$3&B12 -> 0501-10 | B12: =C12&-E12 -> 501-10 | C12: 501 | D12: - | E12: 10 | G12: =C12&-E12 -> 501-10 | H12: =VLOOKUP($B12,番号管理シート!$B:$D,3,FALSE) -> 0 | I12: HERMES | J12: トップス | K12: *12-5610/38/メンズ | L12: =C12 -> 501 | M12: - | N12: =E12 -> 10
A13: =$C$3&B13 -> 0503-1 | B13: =C13&-E13 -> 503-1 | C13: 503 | D13: - | E13: 1 | G13: =C13&-E13 -> 503-1 | H13: =VLOOKUP($B13,番号管理シート!$B:$D,3,FALSE) -> 0 | I13: HERMES | J13: コート | K13: レディース | L13: =C13 -> 503 | M13: - | N13: =E13 -> 1
A14: =$C$3&B14 -> 0503-2 | B14: =C14&-E14 -> 503-2 | C14: 503 | D14: - | E14: 2 | G14: =C14&-E14 -> 503-2 | H14: =VLOOKUP($B14,番号管理シート!$B:$D,3,FALSE) -> 0 | I14: CHANEL | J14: スーツ・セットアップ | K14: レディース | L14: =C14 -> 503 | M14: - | N14: =E14 -> 2
A15: =$C$3&B15 -> 0503-7 | B15: =C15&-E15 -> 503-7 | C15: 503 | D15: - | E15: 7 | G15: =C15&-E15 -> 503-7 | H15: =VLOOKUP($B15,番号管理シート!$B:$D,3,FALSE) -> 0 | I15: CELINE | J15: コート | K15: レディース | L15: =C15 -> 503 | M15: - | N15: =E15 -> 7
A16: =$C$3&B16 -> 0503-8 | B16: =C16&-E16 -> 503-8 | C16: 503 | D16: - | E16: 8 | G16: =C16&-E16 -> 503-8 | H16: =VLOOKUP($B16,番号管理シート!$B:$D,3,FALSE) -> 0 | I16: DOLCE&GABBANA | J16: コート | K16: レディース | L16: =C16 -> 503 | M16: - | N16: =E16 -> 8
A17: =$C$3&B17 -> 0503-9 | B17: =C17&-E17 -> 503-9 | C17: 503 | D17: - | E17: 9 | G17: =C17&-E17 -> 503-9 | H17: =VLOOKUP($B17,番号管理シート!$B:$D,3,FALSE) -> 0 | I17: DOLCE&GABBANA | J17: スーツ・セットアップ | K17: レディース | L17: =C17 -> 503 | M17: - | N17: =E17 -> 9
A18: =$C$3&B18 -> 0503-10 | B18: =C18&-E18 -> 503-10 | C18: 503 | D18: - | E18: 10 | G18: =C18&-E18 -> 503-10 | H18: =VLOOKUP($B18,番号管理シート!$B:$D,3,FALSE) -> 0 | I18: CELINE | J18: スーツ・セットアップ | K18: レディース | L18: =C18 -> 503 | M18: - | N18: =E18 -> 10
A19: =$C$3&B19 -> 0504-1 | B19: =C19&-E19 -> 504-1 | C19: 504 | D19: - | E19: 1 | G19: =C19&-E19 -> 504-1 | H19: =VLOOKUP($B19,番号管理シート!$B:$D,3,FALSE) -> 0 | I19: CHANEL | J19: コート | K19: P22056V12996 03A/36/レディース | L19: =C19 -> 504 | M19: - | N19: =E19 -> 1
A20: =$C$3&B20 -> 0504-3 | B20: =C20&-E20 -> 504-3 | C20: 504 | D20: - | E20: 3 | G20: =C20&-E20 -> 504-3 | H20: =VLOOKUP($B20,番号管理シート!$B:$D,3,FALSE) -> 0 | I20: CHANEL | J20: ジャケット・ブルゾン | K20: P22896V13705 04P/36/レディース | L20: =C20 -> 504 | M20: - | N20: =E20 -> 3
... A60: =$C$3&B60 -> 0513-8 | B60: =C60&-E60 -> 513-8 | C60: 513 | D60: - | E60: 8 | G60: =C60&-E60 -> 513-8 | H60: =VLOOKUP($B60,番号管理シート!$B:$D,3,FALSE) -> 0 | I60: HERMES | J60: ジャケット・ブルゾン | K60: コットン/39 | L60: =C60 -> 513 | M60: - | N60: =E60 -> 8
A61: =$C$3&B61 -> 0513-9 | B61: =C61&-E61 -> 513-9 | C61: 513 | D61: - | E61: 9 | G61: =C61&-E61 -> 513-9 | H61: =VLOOKUP($B61,番号管理シート!$B:$D,3,FALSE) -> 0 | I61: LOUIS VUITTON | J61: パンツ | K61: 38 | L61: =C61 -> 513 | M61: - | N61: =E61 -> 9
A62: =$C$3&B62 -> 0514-2 | B62: =C62&-E62 -> 514-2 | C62: 514 | D62: - | E62: 2 | G62: =C62&-E62 -> 514-2 | H62: =VLOOKUP($B62,番号管理シート!$B:$D,3,FALSE) -> 0 | I62: HERMES | J62: トップス | K62: ポロシャツ | L62: =C62 -> 514 | M62: - | N62: =E62 -> 2
A63: =$C$3&B63 -> 0515-8 | B63: =C63&-E63 -> 515-8 | C63: 515 | D63: - | E63: 8 | G63: =C63&-E63 -> 515-8 | H63: =VLOOKUP($B63,番号管理シート!$B:$D,3,FALSE) -> 0 | I63: BURBERRY | J63: パンツ | K63: 8023139/48/メンズ | L63: =C63 -> 515 | M63: - | N63: =E63 -> 8
A64: =$C$3&B64 -> 0517-1 | B64: =C64&-E64 -> 517-1 | C64: 517 | D64: - | E64: 1 | G64: =C64&-E64 -> 517-1 | H64: =VLOOKUP($B64,番号管理シート!$B:$D,3,FALSE) -> 0 | I64: HERMES | J64: コート | K64: カシミア×アンゴラ×ウール/50/チェスターコート | L64: =C64 -> 517 | M64: - | N64: =E64 -> 1
A65: =$C$3&B65 -> 0517-2 | B65: =C65&-E65 -> 517-2 | C65: 517 | D65: - | E65: 2 | G65: =C65&-E65 -> 517-2 | H65: =VLOOKUP($B65,番号管理シート!$B:$D,3,FALSE) -> 0 | I65: HERMES | J65: シャツ | K65: コーチングコットンドレスシャツ | L65: =C65 -> 517 | M65: - | N65: =E65 -> 2
A66: =$C$3&B66 -> 0517-3 | B66: =C66&-E66 -> 517-3 | C66: 517 | D66: - | E66: 3 | G66: =C66&-E66 -> 517-3 | H66: =VLOOKUP($B66,番号管理シート!$B:$D,3,FALSE) -> 0 | I66: GUCCI | J66: コート | K66: ウール/36/チェスターコート | L66: =C66 -> 517 | M66: - | N66: =E66 -> 3
A67: =$C$3&B67 -> 0517-4 | B67: =C67&-E67 -> 517-4 | C67: 517 | D67: - | E67: 4 | G67: =C67&-E67 -> 517-4 | H67: =VLOOKUP($B67,番号管理シート!$B:$D,3,FALSE) -> 0 | I67: CHANEL | J67: ニット・セーター | K67: P47224/カシミア100%/レディース/スタンドカラー ニット | L67: =C67 -> 517 | M67: - | N67: =E67 -> 4
A68: =$C$3&B68 -> 0517-5 | B68: =C68&-E68 -> 517-5 | C68: 517 | D68: - | E68: 5 | G68: =C68&-E68 -> 517-5 | H68: =VLOOKUP($B68,番号管理シート!$B:$D,3,FALSE) -> 0 | I68: CHANEL | J68: ワンピース | K68: P53153/レディース/ノースリーブ ホルターネック ワンピース | L68: =C68 -> 517 | M68: - | N68: =E68 -> 5
A69: =$C$3&B69 -> 0517-7 | B69: =C69&-E69 -> 517-7 | C69: 517 | D69: - | E69: 7 | G69: =C69&-E69 -> 517-7 | H69: =VLOOKUP($B69,番号管理シート!$B:$D,3,FALSE) -> 0 | I69: LOUIS VUITTON | J69: Tシャツ | K69: 2018SS ワールドネームグラフティーTシャツ | L69: =C69 -> 517 | M69: - | N69: =E69 -> 7
A70: =$C$3&B70 -> 0517-9 | B70: =C70&-E70 -> 517-9 | C70: 517 | D70: - | E70: 9 | G70: =C70&-E70 -> 517-9 | H70: =VLOOKUP($B70,番号管理シート!$B:$D,3,FALSE) -> 0 | I70: DIOR | J70: スーツ・セットアップ | K70: レディース/フリル飾り セットアップ | L70: =C70 -> 517 | M70: - | N70: =E70 -> 9
A71: =$C$3&B71 -> 0518-8 | B71: =C71&-E71 -> 518-8 | C71: 518 | D71: - | E71: 8 | G71: =C71&-E71 -> 518-8 | H71: =VLOOKUP($B71,番号管理シート!$B:$D,3,FALSE) -> 0 | I71: HERMES | J71: トップス | K71: M/レディース | L71: =C71 -> 518 | M71: - | N71: =E71 -> 8
A72: =$C$3&B72 -> 0518-10 | B72: =C72&-E72 -> 518-10 | C72: 518 | D72: - | E72: 10 | G72: =C72&-E72 -> 518-10 | H72: =VLOOKUP($B72,番号管理シート!$B:$D,3,FALSE) -> 0 | I72: HOMME PLISSE | J72: パンツ | K72: HP16-JF153/3/メンズ | L72: =C72 -> 518 | M72: - | N72: =E72 -> 10
A73: =$C$3&B73 -> 0519-1 | B73: =C73&-E73 -> 519-1 | C73: 519 | D73: - | E73: 1 | G73: =C73&-E73 -> 519-1 | H73: =VLOOKUP($B73,番号管理シート!$B:$D,3,FALSE) -> 0 | I73: LOUIS VUITTON | J73: Tシャツ | K73: コットン/シルク/XS | L73: =C73 -> 519 | M73: - | N73: =E73 -> 1
... A109: =$C$3&B109 -> 0533-8 | B109: =C109&-E109 -> 533-8 | C109: 533 | D109: - | E109: 8 | G109: =C109&-E109 -> 533-8 | H109: =VLOOKUP($B109,番号管理シート!$B:$D,3,FALSE) -> 0 | I109: MONCLER | J109: ダウンジャケット・コート | K109: MOKA/ナイロン100% | L109: =C109 -> 533 | M109: - | N109: =E109 -> 8
A110: =$C$3&B110 -> 0535-2 | B110: =C110&-E110 -> 535-2 | C110: 535 | D110: - | E110: 2 | F110: 3 | G110: =C110&-E110 -> 535-2 | H110: =VLOOKUP($B110,番号管理シート!$B:$D,3,FALSE) -> 0 | I110: GUCCI | J110: キャミソール・チュニック | K110: 383878/アセテート76%/シルク24%/36 | L110: =C110 -> 535 | M110: - | N110: =E110 -> 2
A111: =$C$3&B111 -> 0535-3 | B111: =C111&-E111 -> 535-3 | C111: 535 | D111: - | E111: 3 | G111: =C111&-E111 -> 535-3 | H111: =VLOOKUP($B111,番号管理シート!$B:$D,3,FALSE) -> 0 | I111: GUCCI | J111: シャツ | K111: ×ノースフェイス/コットン90%/ナイロン10%/36 | L111: =C111 -> 535 | M111: - | N111: =E111 -> 3
A112: =$C$3&B112 -> 0535-4 | B112: =C112&-E112 -> 535-4 | C112: 535 | D112: - | E112: 4 | G112: =C112&-E112 -> 535-4 | H112: =VLOOKUP($B112,番号管理シート!$B:$D,3,FALSE) -> 0 | I112: PRADA | J112: ニット・セーター | K112: P2401L/シルク56%/コットン38%/ポリエステル%/40 | L112: =C112 -> 535 | M112: - | N112: =E112 -> 4
A113: =$C$3&B113 -> 0535-5 | B113: =C113&-E113 -> 535-5 | C113: 535 | D113: - | E113: 5 | G113: =C113&-E113 -> 535-5 | H113: =VLOOKUP($B113,番号管理シート!$B:$D,3,FALSE) -> 0 | I113: Berluti | J113: パーカー | K113: ウール/XS | L113: =C113 -> 535 | M113: - | N113: =E113 -> 5
A114: =$C$3&B114 -> 0535-6 | B114: =C114&-E114 -> 535-6 | C114: 535 | D114: - | E114: 6 | G114: =C114&-E114 -> 535-6 | H114: =VLOOKUP($B114,番号管理シート!$B:$D,3,FALSE) -> 0 | I114: GUCCI | J114: ワンピース | K114: 665358/コットン100%/XXS | L114: =C114 -> 535 | M114: - | N114: =E114 -> 6
...

Sheet 番号管理シート
A1: 手競り番号 | B1: 商品番号 | C1: 入札金額 | D1: 100円未満切り捨て
A2: 1-1 | B2: 501-1 | C2: =VLOOKUP(A2,【事前入札】7月大阪アパレル大会!$B:$N,7,0) -> 0 | D2: =ROUNDDOWN(C2,-2) -> 0
A3: 1-2 | B3: 501-2 | C3: =VLOOKUP(A3,【事前入札】7月大阪アパレル大会!$B:$N,7,0) -> 0 | D3: =ROUNDDOWN(C3,-2) -> 0
A4: 1-3 | B4: 501-3 | C4: =VLOOKUP(A4,【事前入札】7月大阪アパレル大会!$B:$N,7,0) -> 0 | D4: =ROUNDDOWN(C4,-2) -> 0
A5: 1-4 | B5: 501-4 | C5: =VLOOKUP(A5,【事前入札】7月大阪アパレル大会!$B:$N,7,0) -> 0 | D5: =ROUNDDOWN(C5,-2) -> 0
A6: 1-5 | B6: 501-6 | C6: =VLOOKUP(A6,【事前入札】7月大阪アパレル大会!$B:$N,7,0) -> 0 | D6: =ROUNDDOWN(C6,-2) -> 0
A7: 1-6 | B7: 501-8 | C7: =VLOOKUP(A7,【事前入札】7月大阪アパレル大会!$B:$N,7,0) -> 0 | D7: =ROUNDDOWN(C7,-2) -> 0
A8: 1-7 | B8: 501-9 | C8: =VLOOKUP(A8,【事前入札】7月大阪アパレル大会!$B:$N,7,0) -> 0 | D8: =ROUNDDOWN(C8,-2) -> 0
A9: 1-8 | B9: 501-10 | C9: =VLOOKUP(A9,【事前入札】7月大阪アパレル大会!$B:$N,7,0) -> 0 | D9: =ROUNDDOWN(C9,-2) -> 0
A10: 1-9 | B10: 503-1 | C10: =VLOOKUP(A10,【事前入札】7月大阪アパレル大会!$B:$N,7,0) -> 0 | D10: =ROUNDDOWN(C10,-2) -> 0
A11: 1-10 | B11: 503-2 | C11: =VLOOKUP(A11,【事前入札】7月大阪アパレル大会!$B:$N,7,0) -> 0 | D11: =ROUNDDOWN(C11,-2) -> 0
A12: 2-1 | B12: 503-7 | C12: =VLOOKUP(A12,【事前入札】7月大阪アパレル大会!$B:$N,7,0) -> 0 | D12: =ROUNDDOWN(C12,-2) -> 0
A13: 2-2 | B13: 503-8 | C13: =VLOOKUP(A13,【事前入札】7月大阪アパレル大会!$B:$N,7,0) -> 0 | D13: =ROUNDDOWN(C13,-2) -> 0
... A801: 81-1 | B801: 793-10 | C801: =VLOOKUP(A801,【事前入札】7月大阪アパレル大会!$B:$N,7,0) -> 0 | D801: =ROUNDDOWN(C801,-2) -> 0
