Workbook

Sheet 【事前入札】7月大阪アパレル大会
A1: - | B1: - | C1: - | D1: - | E1: - | F1: - | G1: - | H1: - | I1: - | J1: - | K1: - | L1: - | M1: - | N1: -
C2: 2025年7月開催 | H2: YBA大阪アパレル大会 事前入札フォーマット | O2: 箱番号 | P2: ー | Q2: 枝番号
F3: 現在入札金額合計： | H3: =SUM(H5:H1048576) -> 0 | J3: 入札業者様： | K3: =IF(Q5="","右側の入札業者情報を入力してください⇒",Q5) -> 右側の入札業者情報を入力してください⇒ | P3: - | R3: =O3&P3&Q3 -> - | S3: =IFERROR(IF(R3="","検索",HYPERLINK("#H"&MATCH(R3,G:G,0),"検索")),"対象が見つかりません") -> 検索
C4: 箱番号 | E4: 枝番号 | F4: 巻き | H4: 入札金額 | I4: ブランド | J4: 品目 | K4: 素材/備考 | L4: 箱番号 | N4: 枝番号
A5: =$C$3&B5 -> 1-1 | B5: =C5&-E5 -> 1-1 | C5: 1 | D5: - | E5: 1 | G5: =C5&-E5 -> 1-1 | I5: LOUIS VUITTON | J5: パーカー | K5: FLKM99IS9/M/レディース | L5: =C5 -> 1 | M5: - | N5: =E5 -> 1 | O5: 会社名 | U5: 担当者
A6: =$C$3&B6 -> 1-2 | B6: =C6&-E6 -> 1-2 | C6: 1 | D6: - | E6: 2 | G6: =C6&-E6 -> 1-2 | I6: GUCCI | J6: パンツ | K6: 701630 XJELH/M/メンズ | L6: =C6 -> 1 | M6: - | N6: =E6 -> 2 | O6: 電話番号
A7: =$C$3&B7 -> 1-3 | B7: =C7&-E7 -> 1-3 | C7: 1 | D7: - | E7: 3 | G7: =C7&-E7 -> 1-3 | I7: CHANEL | J7: ワンピース | K7: P01518V02259 93P/38/レディース | L7: =C7 -> 1 | M7: - | N7: =E7 -> 3
A8: =$C$3&B8 -> 1-4 | B8: =C8&-E8 -> 1-4 | C8: 1 | D8: - | E8: 4 | G8: =C8&-E8 -> 1-4 | I8: CHANEL | J8: ジャケット・ブルゾン | K8: P22075V01420 03A/34/レディース | L8: =C8 -> 1 | M8: - | N8: =E8 -> 4 | O8: ※入札データはJAAオークションHPよりダウンロードしたものをご利用ください。 データの送付は、data@yokohama-auction.comまで送付ください。 データ締切：16日 AM7：00 までとなります。 締切時間をすぎたものは受付できない可能性がございますのでご了承くださいませ。 データのご提出は必ず「Excel」データでお願いいたします。 「numbers」などでご提出されないようご注意くださいませ。 ・入札は100円単位となります。100円未満の単位を入札された場合、すべて切り捨てとなります。 システムの関係上、入札取消となる場合もございますのでご注意ください。 ・段違いや入札金額の桁違いがありませんように、よくお確かめの上でご入力をお願い致します。 金額の変更等がありましたら、訂正後再度、フォーマットの送信とお電話でのご連絡をお願い致します。
A9: =$C$3&B9 -> 1-5 | B9: =C9&-E9 -> 1-5 | C9: 1 | D9: - | E9: 5 | G9: =C9&-E9 -> 1-5 | I9: CHANEL | J9: ワンピース | K9: P06304V04615 96P/40/レディース | L9: =C9 -> 1 | M9: - | N9: =E9 -> 5
A10: =$C$3&B10 -> 1-6 | B10: =C10&-E10 -> 1-6 | C10: 1 | D10: - | E10: 6 | G10: =C10&-E10 -> 1-6 | I10: CHANEL | J10: パーカー | K10: P19888V01177 02A/42/レディース | L10: =C10 -> 1 | M10: - | N10: =E10 -> 6
A11: =$C$3&B11 -> 1-7 | B11: =C11&-E11 -> 1-7 | C11: 1 | D11: - | E11: 7 | G11: =C11&-E11 -> 1-7 | I11: CHANEL | J11: ワンピース | K11: P08994V05743 97S/34/レディース | L11: =C11 -> 1 | M11: - | N11: =E11 -> 7
A12: =$C$3&B12 -> 1-8 | B12: =C12&-E12 -> 1-8 | C12: 1 | D12: - | E12: 8 | G12: =C12&-E12 -> 1-8 | I12: HERMES | J12: トップス | K12: *12-5610/38/メンズ | L12: =C12 -> 1 | M12: - | N12: =E12 -> 8
A13: =$C$3&B13 -> 1-9 | B13: =C13&-E13 -> 1-9 | C13: 1 | D13: - | E13: 9 | G13: =C13&-E13 -> 1-9 | I13: HERMES | J13: コート | K13: レディース | L13: =C13 -> 1 | M13: - | N13: =E13 -> 9
A14: =$C$3&B14 -> 1-10 | B14: =C14&-E14 -> 1-10 | C14: 1 | D14: - | E14: 10 | G14: =C14&-E14 -> 1-10 | I14: CHANEL | J14: スーツ・セットアップ | K14: レディース | L14: =C14 -> 1 | M14: - | N14: =E14 -> 10 | O14: 「編集不可」「番号管理シート」の編集・削除は行わないようご注意くださいませ。
A15: =$C$3&B15 -> 2-1 | B15: =C15&-E15 -> 2-1 | C15: 2 | D15: - | E15: 1 | G15: =C15&-E15 -> 2-1 | I15: CELINE | J15: コート | K15: レディース | L15: =C15 -> 2 | M15: - | N15: =E15 -> 1
A16: =$C$3&B16 -> 2-2 | B16: =C16&-E16 -> 2-2 | C16: 2 | D16: - | E16: 2 | G16: =C16&-E16 -> 2-2 | I16: DOLCE&GABBANA | J16: コート | K16: レディース | L16: =C16 -> 2 | M16: - | N16: =E16 -> 2
A17: =$C$3&B17 -> 2-3 | B17: =C17&-E17 -> 2-3 | C17: 2 | D17: - | E17: 3 | G17: =C17&-E17 -> 2-3 | I17: DOLCE&GABBANA | J17: スーツ・セットアップ | K17: レディース | L17: =C17 -> 2 | M17: - | N17: =E17 -> 3
A18: =$C$3&B18 -> 2-4 | B18: =C18&-E18 -> 2-4 | C18: 2 | D18: - | E18: 4 | G18: =C18&-E18 -> 2-4 | I18: CELINE | J18: スーツ・セットアップ | K18: レディース | L18: =C18 -> 2 | M18: - | N18: =E18 -> 4
A19: =$C$3&B19 -> 2-5 | B19: =C19&-E19 -> 2-5 | C19: 2 | D19: - | E19: 5 | G19: =C19&-E19 -> 2-5 | I19: CHANEL | J19: コート | K19: P22056V12996 03A/36/レディース | L19: =C19 -> 2 | M19: - | N19: =E19 -> 5
A20: =$C$3&B20 -> 2-6 | B20: =C20&-E20 -> 2-6 | C20: 2 | D20: - | E20: 6 | G20: =C20&-E20 -> 2-6 | I20: CHANEL | J20: ジャケット・ブルゾン | K20: P22896V13705 04P/36/レディース | L20: =C20 -> 2 | M20: - | N20: =E20 -> 6
A21: =$C$3&B21 -> 2-7 | B21: =C21&-E21 -> 2-7 | C21: 2 | D21: - | E21: 7 | G21: =C21&-E21 -> 2-7 | I21: CHANEL | J21: ジャケット・ブルゾン | K21: P07027W02301 96P/レディース | L21: =C21 -> 2 | M21: - | N21: =E21 -> 7
A22: =$C$3&B22 -> 2-8 | B22: =C22&-E22 -> 2-8 | C22: 2 | D22: - | E22: 8 | G22: =C22&-E22 -> 2-8 | I22: CHANEL | J22: コート | K22: P45582V33845 13P/42/レディース | L22: =C22 -> 2 | M22: - | N22: =E22 -> 8
A23: =$C$3&B23 -> 2-9 | B23: =C23&-E23 -> 2-9 | C23: 2 | D23: - | E23: 9 | G23: =C23&-E23 -> 2-9 | I23: MONCLER | J23: ジャケット・ブルゾン | K23: CAPBRETON/0/メンズ | L23: =C23 -> 2 | M23: - | N23: =E23 -> 9
A24: =$C$3&B24 -> 2-10 | B24: =C24&-E24 -> 2-10 | C24: 2 | D24: - | E24: 10 | G24: =C24&-E24 -> 2-10 | I24: CHANEL | J24: ジャージ・スウェット | K24: P57465K07601 17K/36/レディース | L24: =C24 -> 2 | M24: - | N24: =E24 -> 10
A25: =$C$3&B25 -> 3-1 | B25: =C25&-E25 -> 3-1 | C25: 3 | D25: - | E25: 1 | G25: =C25&-E25 -> 3-1 | I25: CHANEL | J25: アンサンブル | K25: P26599W03641 05A/36/レディース | L25: =C25 -> 3 | M25: - | N25: =E25 -> 1
A26: =$C$3&B26 -> 3-2 | B26: =C26&-E26 -> 3-2 | C26: 3 | D26: - | E26: 2 | G26: =C26&-E26 -> 3-2 | I26: GUCCI | J26: シャツ | K26: 779330/コットン100%/36 | L26: =C26 -> 3 | M26: - | N26: =E26 -> 2
... A60: =$C$3&B60 -> 6-6 | B60: =C60&-E60 -> 6-6 | C60: 6 | D60: - | E60: 6 | G60: =C60&-E60 -> 6-6 | I60: HERMES | J60: ジャケット・ブルゾン | K60: コットン/39 | L60: =C60 -> 6 | M60: - | N60: =E60 -> 6
A61: =$C$3&B61 -> 6-7 | B61: =C61&-E61 -> 6-7 | C61: 6 | D61: - | E61: 7 | G61: =C61&-E61 -> 6-7 | I61: LOUIS VUITTON | J61: パンツ | K61: 38 | L61: =C61 -> 6 | M61: - | N61: =E61 -> 7
A62: =$C$3&B62 -> 6-8 | B62: =C62&-E62 -> 6-8 | C62: 6 | D62: - | E62: 8 | G62: =C62&-E62 -> 6-8 | I62: HERMES | J62: トップス | K62: ポロシャツ | L62: =C62 -> 6 | M62: - | N62: =E62 -> 8
A63: =$C$3&B63 -> 6-9 | B63: =C63&-E63 -> 6-9 | C63: 6 | D63: - | E63: 9 | G63: =C63&-E63 -> 6-9 | I63: BURBERRY | J63: パンツ | K63: 8023139/48/メンズ | L63: =C63 -> 6 | M63: - | N63: =E63 -> 9
A64: =$C$3&B64 -> 6-10 | B64: =C64&-E64 -> 6-10 | C64: 6 | D64: - | E64: 10 | G64: =C64&-E64 -> 6-10 | I64: HERMES | J64: コート | K64: カシミア×アンゴラ×ウール/50/チェスターコート | L64: =C64 -> 6 | M64: - | N64: =E64 -> 10
A65: =$C$3&B65 -> 7-1 | B65: =C65&-E65 -> 7-1 | C65: 7 | D65: - | E65: 1 | G65: =C65&-E65 -> 7-1 | I65: HERMES | J65: シャツ | K65: コーチングコットンドレスシャツ | L65: =C65 -> 7 | M65: - | N65: =E65 -> 1
A66: =$C$3&B66 -> 7-2 | B66: =C66&-E66 -> 7-2 | C66: 7 | D66: - | E66: 2 | G66: =C66&-E66 -> 7-2 | I66: GUCCI | J66: コート | K66: ウール/36/チェスターコート | L66: =C66 -> 7 | M66: - | N66: =E66 -> 2
A67: =$C$3&B67 -> 7-3 | B67: =C67&-E67 -> 7-3 | C67: 7 | D67: - | E67: 3 | G67: =C67&-E67 -> 7-3 | I67: CHANEL | J67: ニット・セーター | K67: P47224/カシミア100%/レディース/スタンドカラー ニット | L67: =C67 -> 7 | M67: - | N67: =E67 -> 3
A68: =$C$3&B68 -> 7-4 | B68: =C68&-E68 -> 7-4 | C68: 7 | D68: - | E68: 4 | G68: =C68&-E68 -> 7-4 | I68: CHANEL | J68: ワンピース | K68: P53153/レディース/ノースリーブ ホルターネック ワンピース | L68: =C68 -> 7 | M68: - | N68: =E68 -> 4
A69: =$C$3&B69 -> 7-5 | B69: =C69&-E69 -> 7-5 | C69: 7 | D69: - | E69: 5 | G69: =C69&-E69 -> 7-5 | I69: LOUIS VUITTON | J69: Tシャツ | K69: 2018SS ワールドネームグラフティーTシャツ | L69: =C69 -> 7 | M69: - | N69: =E69 -> 5
A70: =$C$3&B70 -> 7-6 | B70: =C70&-E70 -> 7-6 | C70: 7 | D70: - | E70: 6 | G70: =C70&-E70 -> 7-6 | I70: DIOR | J70: スーツ・セットアップ | K70: レディース/フリル飾り セットアップ | L70: =C70 -> 7 | M70: - | N70: =E70 -> 6
A71: =$C$3&B71 -> 7-7 | B71: =C71&-E71 -> 7-7 | C71: 7 | D71: - | E71: 7 | G71: =C71&-E71 -> 7-7 | I71: HERMES | J71: トップス | K71: M/レディース | L71: =C71 -> 7 | M71: - | N71: =E71 -> 7
A72: =$C$3&B72 -> 7-8 | B72: =C72&-E72 -> 7-8 | C72: 7 | D72: - | E72: 8 | G72: =C72&-E72 -> 7-8 | I72: HOMME PLISSE | J72: パンツ | K72: HP16-JF153/3/メンズ | L72: =C72 -> 7 | M72: - | N72: =E72 -> 8
A73: =$C$3&B73 -> 7-9 | B73: =C73&-E73 -> 7-9 | C73: 7 | D73: - | E73: 9 | G73: =C73&-E73 -> 7-9 | I73: LOUIS VUITTON | J73: Tシャツ | K73: コットン/シルク/XS | L73: =C73 -> 7 | M73: - | N73: =E73 -> 9
... A109: =$C$3&B109 -> 11-5 | B109: =C109&-E109 -> 11-5 | C109: 11 | D109: - | E109: 5 | G109: =C109&-E109 -> 11-5 | I109: MONCLER | J109: ダウンジャケット・コート | K109: MOKA/ナイロン100% | L109: =C109 -> 11 | M109: - | N109: =E109 -> 5
A110: =$C$3&B110 -> 11-6 | B110: =C110&-E110 -> 11-6 | C110: 11 | D110: - | E110: 6 | F110: 7 | G110: =C110&-E110 -> 11-6 | I110: GUCCI | J110: キャミソール・チュニック | K110: 383878/アセテート76%/シルク24%/36 | L110: =C110 -> 11 | M110: - | N110: =E110 -> 6
A111: =$C$3&B111 -> 11-7 | B111: =C111&-E111 -> 11-7 | C111: 11 | D111: - | E111: 7 | G111: =C111&-E111 -> 11-7 | I111: GUCCI | J111: シャツ | K111: ×ノースフェイス/コットン90%/ナイロン10%/36 | L111: =C111 -> 11 | M111: - | N111: =E111 -> 7
A112: =$C$3&B112 -> 11-8 | B112: =C112&-E112 -> 11-8 | C112: 11 | D112: - | E112: 8 | G112: =C112&-E112 -> 11-8 | I112: PRADA | J112: ニット・セーター | K112: P2401L/シルク56%/コットン38%/ポリエステル%/40 | L112: =C112 -> 11 | M112: - | N112: =E112 -> 8
A113: =$C$3&B113 -> 11-9 | B113: =C113&-E113 -> 11-9 | C113: 11 | D113: - | E113: 9 | G113: =C113&-E113 -> 11-9 | I113: Berluti | J113: パーカー | K113: ウール/XS | L113: =C113 -> 11 | M113: - | N113: =E113 -> 9
A114: =$C$3&B114 -> 11-10 | B114: =C114&-E114 -> 11-10 | C114: 11 | D114: - | E114: 10 | G114: =C114&-E114 -> 11-10 | I114: GUCCI | J114: ワンピース | K114: 665358/コットン100%/XXS | L114: =C114 -> 11 | M114: - | N114: =E114 -> 10
A115: =$C$3&B115 -> 12-1 | B115: =C115&-E115 -> 12-1 | C115: 12 | D115: - | E115: 1 | G115: =C115&-E115 -> 12-1 | I115: Max Mara | J115: コート | K115: テディベア/11-27-10111/アルパカ/ウール/シルク/付属品:ハンガー・タグ | L115: =C115 -> 12 | M115: - | N115: =E115 -> 1
A116: =$C$3&B116 -> 12-2 | B116: =C116&-E116 -> 12-2 | C116: 12 | D116: - | E116: 2 | G116: =C116&-E116 -> 12-2 | I116: GUCCI | J116: ジャージ・スウェット | K116: 737404/ポリエステル100%/スパンコール/L | L116: =C116 -> 12 | M116: - | N116: =E116 -> 2
A117: =$C$3&B117 -> 12-3 | B117: =C117&-E117 -> 12-3 | C117: 12 | D117: - | E117: 3 | G117: =C117&-E117 -> 12-3 | I117: GUCCI | J117: パンツ | K117: 740095/ポリエステル100%/スパンコール/L | L117: =C117 -> 12 | M117: - | N117: =E117 -> 3
A118: =$C$3&B118 -> 12-4 | B118: =C118&-E118 -> 12-4 | C118: 12 | D118: - | E118: 4 | G118: =C118&-E118 -> 12-4 | I118: PRADA | J118: ジャケット・ブルゾン | K118: シルク100%/38 | L118: =C118 -> 12 | M118: - | N118: =E118 -> 4
A119: =$C$3&B119 -> 12-5 | B119: =C119&-E119 -> 12-5 | C119: 12 | D119: - | E119: 5 | G119: =C119&-E119 -> 12-5 | I119: GIANNI VERSACE | J119: シャツ | K119: ポリエステル/38 | L119: =C119 -> 12 | M119: - | N119: =E119 -> 5
A120: =$C$3&B120 -> 12-6 | B120: =C120&-E120 -> 12-6 | C120: 12 | D120: - | E120: 6 | G120: =C120&-E120 -> 12-6 | I120: GUCCI | J120: ニット・セーター | K120: 766193/ウール100%/S | L120: =C120 -> 12 | M120: - | N120: =E120 -> 6
A121: =$C$3&B121 -> 12-7 | B121: =C121&-E121 -> 12-7 | C121: 12 | D121: - | E121: 7 | G121: =C121&-E121 -> 12-7 | I121: VALENTINO | J121: ニット・セーター | K121: ウール/XXS | L121: =C121 -> 12 | M121: - | N121: =E121 -> 7
A122: =$C$3&B122 -> 12-8 | B122: =C122&-E122 -> 12-8 | C122: 12 | D122: - | E122: 8 | G122: =C122&-E122 -> 12-8 | I122: PRADA | J122: パンツ | K122: シルク100%/38 | L122: =C122 -> 12 | M122: - | N122: =E122 -> 8
... A181: =$C$3&B181 -> 18-7 | B181: =C181&-E181 -> 18-7 | C181: 18 | D181: - | E181: 7 | G181: =C181&-E181 -> 18-7 | I181: CHANEL | J181: スーツ・セットアップ | K181: 3点セット | L181: =C181 -> 18 | M181: - | N181: =E181 -> 7
A182: =$C$3&B182 -> 18-8 | B182: =C182&-E182 -> 18-8 | C182: 18 | D182: - | E182: 8 | G182: =C182&-E182 -> 18-8 | I182: CHANEL | J182: スーツ・セットアップ | L182: =C182 -> 18 | M182: - | N182: =E182 -> 8
A183: =$C$3&B183 -> 18-9 | B183: =C183&-E183 -> 18-9 | C183: 18 | D183: - | E183: 9 | G183: =C183&-E183 -> 18-9 | I183: CHANEL | J183: スーツ・セットアップ | L183: =C183 -> 18 | M183: - | N183: =E183 -> 9
A184: =$C$3&B184 -> 18-10 | B184: =C184&-E184 -> 18-10 | C184: 18 | D184: - | E184: 10 | G184: =C184&-E184 -> 18-10 | I184: CHANEL | J184: スーツ・セットアップ | L184: =C184 -> 18 | M184: - | N184: =E184 -> 10
A185: =$C$3&B185 -> 19-1 | B185: =C185&-E185 -> 19-1 | C185: 19 | D185: - | E185: 1 | G185: =C185&-E185 -> 19-1 | I185: CHANEL | J185: スーツ・セットアップ | L185: =C185 -> 19 | M185: - | N185: =E185 -> 1
A186: =$C$3&B186 -> 19-2 | B186: =C186&-E186 -> 19-2 | C186: 19 | D186: - | E186: 2 | G186: =C186&-E186 -> 19-2 | I186: CHANEL | J186: スーツ・セットアップ | L186: =C186 -> 19 | M186: - | N186: =E186 -> 2
A187: =$C$3&B187 -> 19-3 | B187: =C187&-E187 -> 19-3 | C187: 19 | D187: - | E187: 3 | G187: =C187&-E187 -> 19-3 | I187: DIOR | J187: Tシャツ | L187: =C187 -> 19 | M187: - | N187: =E187 -> 3
A188: =$C$3&B188 -> 19-4 | B188: =C188&-E188 -> 19-4 | C188: 19 | D188: - | E188: 4 | G188: =C188&-E188 -> 19-4 | I188: DIOR | J188: Tシャツ | L188: =C188 -> 19 | M188: - | N188: =E188 -> 4
A189: =$C$3&B189 -> 19-5 | B189: =C189&-E189 -> 19-5 | C189: 19 | D189: - | E189: 5 | G189: =C189&-E189 -> 19-5 | I189: BALENCIAGA | J189: Tシャツ | L189: =C189 -> 19 | M189: - | N189: =E189 -> 5
A190: =$C$3&B190 -> 19-6 | B190: =C190&-E190 -> 19-6 | C190: 19 | D190: - | E190: 6 | G190: =C190&-E190 -> 19-6 | I190: CELINE | J190: トップス | L190: =C190 -> 19 | M190: - | N190: =E190 -> 6
A191: =$C$3&B191 -> 19-7 | B191: =C191&-E191 -> 19-7 | C191: 19 | D191: - | E191: 7 | G191: =C191&-E191 -> 19-7 | I191: BURBERRY | J191: トップス | L191: =C191 -> 19 | M191: - | N191: =E191 -> 7
A192: =$C$3&B192 -> 19-8 | B192: =C192&-E192 -> 19-8 | C192: 19 | D192: - | E192: 8 | G192: =C192&-E192 -> 19-8 | I192: Christian Dior | J192: ジャケット・ブルゾン | L192: =C192 -> 19 | M192: - | N192: =E192 -> 8
A193: =$C$3&B193 -> 19-9 | B193: =C193&-E193 -> 19-9 | C193: 19 | D193: - | E193: 9 | G193: =C193&-E193 -> 19-9 | I193: CHANEL | J193: ニット・セーター | L193: =C193 -> 19 | M193: - | N193: =E193 -> 9
... A804: =$C$3&B804 -> 81-1 | B804: =C804&-E804 -> 81-1 | C804: 81 | D804: - | E804: 1 | G804: =C804&-E804 -> 81-1 | I804: HERMES | J804: サンダル | L804: =C804 -> 81 | M804: - | N804: =E804 -> 1

Sheet 編集不可
A1: - | B1: - | C1: - | D1: - | E1: - | F1: - | G1: - | H1: - | I1: - | J1: - | K1: - | L1: - | M1: - | N1: -
C2: 2025年7月開催 | H2: YBA大阪アパレル大会 事前入札フォーマット | O2: 箱番号 | P2: ー | Q2: 枝番号
C3: =【事前入札】7月大阪アパレル大会!C3 -> 0 | F3: 現在入札金額合計： | H3: =SUM(H5:H1048576) -> 0 | J3: 入札業者様： | K3: =IF(Q5="","右側の入札業者情報を入力してください⇒",Q5) -> 右側の入札業者情報を入力してください⇒ | P3: - | R3: =O3&P3&Q3 -> - | S3: =IFERROR(IF(R3="","検索",HYPERLINK("#H"&MATCH(R3,G:G,0),"検索")),"対象が見つかりません") -> 検索
C4: 箱番号 | E4: 枝番号 | F4: 巻き | H4: 入札金額 | I4: ブランド | J4: 品目 | K4: 素材/備考 | L4: 箱番号 | N4: 枝番号
A5: =$C$3&B5 -> 0501-1 | B5: =C5&-E5 -> 501-1 | C5: 501 | D5: - | E5: 1 | G5: =C5&-E5 -> 501-1 | H5: =VLOOKUP($B5,番号管理シート!$B:$D,3,FALSE) -> 0 | I5: LOUIS VUITTON | J5: パーカー | K5: FLKM99IS9/M/レディース | L5: =C5 -> 501 | M5: - | N5: =E5 -> 1 | O5: 会社名 | U5: 担当者
A6: =$C$3&B6 -> 0501-2 | B6: =C6&-E6 -> 501-2 | C6: 501 | D6: - | E6: 2 | G6: =C6&-E6 -> 501-2 | H6: =VLOOKUP($B6,番号管理シート!$B:$D,3,FALSE) -> 0 | I6: GUCCI | J6: パンツ | K6: 701630 XJELH/M/メンズ | L6: =C6 -> 501 | M6: - | N6: =E6 -> 2 | O6: 電話番号
A7: =$C$3&B7 -> 0501-3 | B7: =C7&-E7 -> 501-3 | C7: 501 | D7: - | E7: 3 | G7: =C7&-E7 -> 501-3 | H7: =VLOOKUP($B7,番号管理シート!$B:$D,3,FALSE) -> 0 | I7: CHANEL | J7: ワンピース | K7: P01518V02259 93P/38/レディース | L7: =C7 -> 501 | M7: - | N7: =E7 -> 3
A8: =$C$3&B8 -> 0501-4 | B8: =C8&-E8 -> 501-4 | C8: 501 | D8: - | E8: 4 | G8: =C8&-E8 -> 501-4 | H8: =VLOOKUP($B8,番号管理シート!$B:$D,3,FALSE) -> 0 | I8: CHANEL | J8: ジャケット・ブルゾン | K8: P22075V01420 03A/34/レディース | L8: =C8 -> 501 | M8: - | N8: =E8 -> 4 | O8: ※入札データはJAAオークションHPよりダウンロードしたものをご利用ください。 データの送付は、data@yokohama-auction.comまで送付ください。 データ締切：16日 AM7：00 までとなります。 締切時間をすぎたものは受付できない可能性がございますのでご了承くださいませ。 データのご提出は必ず「Excel」データでお願いいたします。 「numbers」などでご提出されないようご注意くださいませ。 ・入札は100円単位となります。100円未満の単位を入札された場合、すべて切り捨てとなります。 システムの関係上、入札取消となる場合もございますのでご注意ください。 ・段違いや入札金額の桁違いがありませんように、よくお確かめの上でご入力をお願い致します。 金額の変更等がありましたら、訂正後再度、フォーマットの送信とお電話でのご連絡をお願い致します。
A9: =$C$3&B9 -> 0501-6 | B9: =C9&-E9 -> 501-6 | C9: 501 | D9: - | E9: 6 | G9: =C9&-E9 -> 501-6 | H9: =VLOOKUP($B9,番号管理シート!$B:$D,3,FALSE) -> 0 | I9: CHANEL | J9: ワンピース | K9: P06304V04615 96P/40/レディース | L9: =C9 -> 501 | M9: - | N9: =E9 -> 6
A10: =$C$3&B10 -> 0501-8 | B10: =C10&-E10 -> 501-8 | C10: 501 | D10: - | E10: 8 | G10: =C10&-E10 -> 501-8 | H10: =VLOOKUP($B10,番号管理シート!$B:$D,3,FALSE) -> 0 | I10: CHANEL | J10: パーカー | K10: P19888V01177 02A/42/レディース | L10: =C10 -> 501 | M10: - | N10: =E10 -> 8
A11: =$C$3&B11 -> 0501-9 | B11: =C11&-E11 -> 501-9 | C11: 501 | D11: - | E11: 9 | G11: =C11&-E11 -> 501-9 | H11: =VLOOKUP($B11,番号管理シート!$B:$D,3,FALSE) -> 0 | I11: CHANEL | J11: ワンピース | K11: P08994V05743 97S/34/レディース | L11: =C11 -> 501 | M11: - | N11: =E11 -> 9
A12: =$C$3&B12 -> 0501-10 | B12: =C12&-E12 -> 501-10 | C12: 501 | D12: - | E12: 10 | G12: =C12&-E12 -> 501-10 | H12: =VLOOKUP($B12,番号管理シート!$B:$D,3,FALSE) -> 0 | I12: HERMES | J12: トップス | K12: *12-5610/38/メンズ | L12: =C12 -> 501 | M12: - | N12: =E12 -> 10
A13: =$C$3&B13 -> 0503-1 | B13: =C13&-E13 -> 503-1 | C13: 503 | D13: - | E13: 1 | G13: =C13&-E13 -> 503-1 | H13: =VLOOKUP($B13,番号管理シート!$B:$D,3,FALSE) -> 0 | I13: HERMES | J13: コート | K13: レディース | L13: =C13 -> 503 | M13: - | N13: =E13 -> 1
A14: =$C$3&B14 -> 0503-2 | B14: =C14&-E14 -> 503-2 | C14: 503 | D14: - | E14: 2 | G14: =C14&-E14 -> 503-2 | H14: =VLOOKUP($B14,番号管理シート!$B:$D,3,FALSE) -> 0 | I14: CHANEL | J14: スーツ・セットアップ | K14: レディース | L14: =C14 -> 503 | M14: - | N14: =E14 -> 2
A15: =$C$3&B15 -> 0503-7 | B15: =C15&-E15 -> 503-7 | C15: 503 | D15: - | E15: 7 | G15: =C15&-E15 -> 503-7 | H15: =VLOOKUP($B15,番号管理シート!$B:$D,3,FALSE) -> 0 | I15: CELINE | J15: コート | K15: レディース | L15: =C15 -> 503 | M15: - | N15: =E15 -> 7
A16: =$C$3&B16 -> 0503-8 | B16: =C16&-E16 -> 503-8 | C16: 503 | D16: - | E16: 8 | G16: =C16&-E16 -> 503-8 | H16: =VLOOKUP($B16,番号管理シート!$B:$D,3,FALSE) -> 0 | I16: DOLCE&GABBANA | J16: コート | K16: レディース | L16: =C16 -> 503 | M16: - | N16: =E16 -> 8
A17: =$C$3&B17 -> 0503-9 | B17: =C17&-E17 -> 503-9 | C17: 503 | D17: - | E17: 9 | G17: =C17&-E17 -> 503-9 | H17: =VLOOKUP($B17,番号管理シート!$B:$D,3,FALSE) -> 0 | I17: DOLCE&GABBANA | J17: スーツ・セットアップ | K17: レディース | L17: =C17 -> 503 | M17: - | N17: =E17 -> 9
A18: =$C$3&B18 -> 0503-10 | B18: =C18&-E18 -> 503-10 | C18: 503 | D18: - | E18: 10 | G18: =C18&-E18 -> 503-10 | H18: =VLOOKUP($B18,番号管理シート!$B:$D,3,FALSE) -> 0 | I18: CELINE | J18: スーツ・セットアップ | K18: レディース | L18: =C18 -> 503 | M18: - | N18: =E18 -> 10
A19: =$C$3&B19 -> 0504-1 | B19: =C19&-E19 -> 504-1 | C19: 504 | D19: - | E19: 1 | G19: =C19&-E19 -> 504-1 | H19: =VLOOKUP($B19,番号管理シート!$B:$D,3,FALSE) -> 0 | I19: CHANEL | J19: コート | K19: P22056V12996 03A/36/レディース | L19: =C19 -> 504 | M19: - | N19: =E19 -> 1
A20: =$C$3&B20 -> 0504-3 | B20: =C20&-E20 -> 504-3 | C20: 504 | D20: - | E20: 3 | G20: =C20&-E20 -> 504-3 | H20: =VLOOKUP($B20,番号管理シート!$B:$D,3,FALSE) -> 0 | I20: CHANEL | J20: ジャケット・ブルゾン | K20: P22896V13705 04P/36/レディース | L20: =C20 -> 504 | M20: - | N20: =E20 -> 3
... A60: =$C$3&B60 -> 0513-8 | B60: =C60&-E60 -> 513-8 | C60: 513 | D60: - | E60: 8 | G60: =C60&-E60 -> 513-8 | H60: =VLOOKUP($B60,番号管理シート!$B:$D,3,FALSE) -> 0 | I60: HERMES | J60: ジャケット・ブルゾン | K60: コットン/39 | L60: =C60 -> 513 | M60: - | N60: =E60 -> 8
A61: =$C$3&B61 -> 0513-9 | B61: =C61&-E61 -> 513-9 | C61: 513 | D61: - | E61: 9 | G61: =C61&-E61 -> 513-9 | H61: =VLOOKUP($B61,番号管理シート!$B:$D,3,FALSE) -> 0 | I61: LOUIS VUITTON | J61: パンツ | K61: 38 | L61: =C61 -> 513 | M61: - | N61: =E61 -> 9
A62: =$C$3&B62 -> 0514-2 | B62: =C62&-E62 -> 514-2 | C62: 514 | D62: - | E62: 2 | G62: =C62&-E62 -> 514-2 | H62: =VLOOKUP($B62,番号管理シート!$B:$D,3,FALSE) -> 0 | I62: HERMES | J62: トップス | K62: ポロシャツ | L62: =C62 -> 514 | M62: - | N62: =E62 -> 2
A63: =$C$3&B63 -> 0515-8 | B63: =C63&-E63 -> 515-8 | C63: 515 | D63: - | E63: 8 | G63: =C63&-E63 -> 515-8 | H63: =VLOOKUP($B63,番号管理シート!$B:$D,3,FALSE) -> 0 | I63: BURBERRY | J63: パンツ | K63: 8023139/48/メンズ | L63: =C63 -> 515 | M63: - | N63: =E63 -> 8
A64: =$C$3&B64 -> 0517-1 | B64: =C64&-E64 -> 517-1 | C64: 517 | D64: - | E64: 1 | G64: =C64&-E64 -> 517-1 | H64: =VLOOKUP($B64,番号管理シート!$B:$D,3,FALSE) -> 0 | I64: HERMES | J64: コート | K64: カシミア×アンゴラ×ウール/50/チェスターコート | L64: =C64 -> 517 | M64: - | N64: =E64 -> 1
A65: =$C$3&B65 -> 0517-2 | B65: =C65&-E65 -> 517-2 | C65: 517 | D65: - | E65: 2 | G65: =C65&-E65 -> 517-2 | H65: =VLOOKUP($B65,番号管理シート!$B:$D,3,FALSE) -> 0 | I65: HERMES | J65: シャツ | K65: コーチングコットンドレスシャツ | L65: =C65 -> 517 | M65: - | N65: =E65 -> 2
A66: =$C$3&B66 -> 0517-3 | B66: =C66&-E66 -> 517-3 | C66: 517 | D66: - | E66: 3 | G66: =C66&-E66 -> 517-3 | H66: =VLOOKUP($B66,番号管理シート!$B:$D,3,FALSE) -> 0 | I66: GUCCI | J66: コート | K66: ウール/36/チェスターコート | L66: =C66 -> 517 | M66: - | N66: =E66 -> 3
A67: =$C$3&B67 -> 0517-4 | B67: =C67&-E67 -> 517-4 | C67: 517 | D67: - | E67: 4 | G67: =C67&-E67 -> 517-4 | H67: =VLOOKUP($B67,番号管理シート!$B:$D,3,FALSE) -> 0 | I67: CHANEL | J67: ニット・セーター | K67: P47224/カシミア100%/レディース/スタンドカラー ニット | L67: =C67 -> 517 | M67: - | N67: =E67 -> 4
A68: =$C$3&B68 -> 0517-5 | B68: =C68&-E68 -> 517-5 | C68: 517 | D68: - | E68: 5 | G68: =C68&-E68 -> 517-5 | H68: =VLOOKUP($B68,番号管理シート!$B:$D,3,FALSE) -> 0 | I68: CHANEL | J68: ワンピース | K68: P53153/レディース/ノースリーブ ホルターネック ワンピース | L68: =C68 -> 517 | M68: - | N68: =E68 -> 5
A69: =$C$3&B69 -> 0517-7 | B69: =C69&-E69 -> 517-7 | C69: 517 | D69: - | E69: 7 | G69: =C69&-E69 -> 517-7 | H69: =VLOOKUP($B69,番号管理シート!$B:$D,3,FALSE) -> 0 | I69: LOUIS VUITTON | J69: Tシャツ | K69: 2018SS ワールドネームグラフティーTシャツ | L69: =C69 -> 517 | M69: - | N69: =E69 -> 7
A70: =$C$3&B70 -> 0517-9 | B70: =C70&-E70 -> 517-9 | C70: 517 | D70: - | E70: 9 | G70: =C70&-E70 -> 517-9 | H70: =VLOOKUP($B70,番号管理シート!$B:$D,3,FALSE) -> 0 | I70: DIOR | J70: スーツ・セットアップ | K70: レディース/フリル飾り セットアップ | L70: =C70 -> 517 | M70: - | N70: =E70 -> 9
A71: =$C$3&B71 -> 0518-8 | B71: =C71&-E71 -> 518-8 | C71: 518 | D71: - | E71: 8 | G71: =C71&-E71 -> 518-8 | H71: =VLOOKUP($B71,番号管理シート!$B:$D,3,FALSE) -> 0 | I71: HERMES | J71: トップス | K71: M/レディース | L71: =C71 -> 518 | M71: - | N71: =E71 -> 8
A72: =$C$3&B72 -> 0518-10 | B72: =C72&-E72 -> 518-10 | C72: 518 | D72: - | E72: 10 | G72: =C72&-E72 -> 518-10 | H72: =VLOOKUP($B72,番号管理シート!$B:$D,3,FALSE) -> 0 | I72: HOMME PLISSE | J72: パンツ | K72: HP16-JF153/3/メンズ | L72: =C72 -> 518 | M72: - | N72: =E72 -> 10
A73: =$C$3&B73 -> 0519-1 | B73: =C73&-E73 -> 519-1 | C73: 519 | D73: - | E73: 1 | G73: =C73&-E73 -> 519-1 | H73: =VLOOKUP($B73,番号管理シート!$B:$D,3,FALSE) -> 0 | I73: LOUIS VUITTON | J73: Tシャツ | K73: コットン/シルク/XS | L73: =C73 -> 519 | M73: - | N73: =E73 -> 1
... A109: =$C$3&B109 -> 0533-8 | B109: =C109&-E109 -> 533-8 | C109: 533 | D109: - | E109: 8 | G109: =C109&-E109 -> 533-8 | H109: =VLOOKUP($B109,番号管理シート!$B:$D,3,FALSE) -> 0 | I109: MONCLER | J109: ダウンジャケット・コート | K109: MOKA/ナイロン100% | L109: =C109 -> 533 | M109: - | N109: =E109 -> 8
A110: =$C$3&B110 -> 0535-2 | B110: =C110&-E110 -> 535-2 | C110: 535 | D110: - | E110: 2 | F110: 3 | G110: =C110&-E110 -> 535-2 | H110: =VLOOKUP($B110,番号管理シート!$B:$D,3,FALSE) -> 0 | I110: GUCCI | J110: キャミソール・チュニック | K110: 383878/アセテート76%/シルク24%/36 | L110: =C110 -> 535 | M110: - | N110: =E110 -> 2
A111: =$C$3&B111 -> 0535-3 | B111: =C111&-E111 -> 535-3 | C111: 535 | D111: - | E111: 3 | G111: =C111&-E111 -> 535-3 | H111: =VLOOKUP($B111,番号管理シート!$B:$D,3,FALSE) -> 0 | I111: GUCCI | J111: シャツ | K111: ×ノースフェイス/コットン90%/ナイロン10%/36 | L111: =C111 -> 535 | M111: - | N111: =E111 -> 3
A112: =$C$3&B112 -> 0535-4 | B112: =C112&-E112 -> 535-4 | C112: 535 | D112: - | E112: 4 | G112: =C112&-E112 -> 535-4 | H112: =VLOOKUP($B112,番号管理シート!$B:$D,3,FALSE) -> 0 | I112: PRADA | J112: ニット・セーター | K112: P2401L/シルク56%/コットン38%/ポリエステル%/40 | L112: =C112 -> 535 | M112: - | N112: =E112 -> 4
A113: =$C$3&B113 -> 0535-5 | B113: =C113&-E113 -> 535-5 | C113: 535 | D113: - | E113: 5 | G113: =C113&-E113 -> 535-5 | H113: =VLOOKUP($B113,番号管理シート!$B:$D,3,FALSE) -> 0 | I113: Berluti | J113: パーカー | K113: ウール/XS | L113: =C113 -> 535 | M113: - | N113: =E113 -> 5
A114: =$C$3&B114 -> 0535-6 | B114: =C114&-E114 -> 535-6 | C114: 535 | D114: - | E114: 6 | G114: =C114&-E114 -> 535-6 | H114: =VLOOKUP($B114,番号管理シート!$B:$D,3,FALSE) -> 0 | I114: GUCCI | J114: ワンピース | K114: 665358/コットン100%/XXS | L114: =C114 -> 535 | M114: - | N114: =E114 -> 6
A115: =$C$3&B115 -> 0535-10 | B115: =C115&-E115 -> 535-10 | C115: 535 | D115: - | E115: 10 | G115: =C115&-E115 -> 535-10 | H115: =VLOOKUP($B115,番号管理シート!$B:$D,3,FALSE) -> 0 | I115: Max Mara | J115: コート | K115: テディベア/11-27-10111/アルパカ/ウール/シルク/付属品:ハンガー・タグ | L115: =C115 -> 535 | M115: - | N115: =E115 -> 10
A116: =$C$3&B116 -> 0537-9 | B116: =C116&-E116 -> 537-9 | C116: 537 | D116: - | E116: 9 | G116: =C116&-E116 -> 537-9 | H116: =VLOOKUP($B116,番号管理シート!$B:$D,3,FALSE) -> 0 | I116: GUCCI | J116: ジャージ・スウェット | K116: 737404/ポリエステル100%/スパンコール/L | L116: =C116 -> 537 | M116: - | N116: =E116 -> 9
A117: =$C$3&B117 -> 0537-10 | B117: =C117&-E117 -> 537-10 | C117: 537 | D117: - | E117: 10 | G117: =C117&-E117 -> 537-10 | H117: =VLOOKUP($B117,番号管理シート!$B:$D,3,FALSE) -> 0 | I117: GUCCI | J117: パンツ | K117: 740095/ポリエステル100%/スパンコール/L | L117: =C117 -> 537 | M117: - | N117: =E117 -> 10
A118: =$C$3&B118 -> 0540-1 | B118: =C118&-E118 -> 540-1 | C118: 540 | D118: - | E118: 1 | G118: =C118&-E118 -> 540-1 | H118: =VLOOKUP($B118,番号管理シート!$B:$D,3,FALSE) -> 0 | I118: PRADA | J118: ジャケット・ブルゾン | K118: シルク100%/38 | L118: =C118 -> 540 | M118: - | N118: =E118 -> 1
A119: =$C$3&B119 -> 0540-2 | B119: =C119&-E119 -> 540-2 | C119: 540 | D119: - | E119: 2 | G119: =C119&-E119 -> 540-2 | H119: =VLOOKUP($B119,番号管理シート!$B:$D,3,FALSE) -> 0 | I119: GIANNI VERSACE | J119: シャツ | K119: ポリエステル/38 | L119: =C119 -> 540 | M119: - | N119: =E119 -> 2
A120: =$C$3&B120 -> 0540-4 | B120: =C120&-E120 -> 540-4 | C120: 540 | D120: - | E120: 4 | G120: =C120&-E120 -> 540-4 | H120: =VLOOKUP($B120,番号管理シート!$B:$D,3,FALSE) -> 0 | I120: GUCCI | J120: ニット・セーター | K120: 766193/ウール100%/S | L120: =C120 -> 540 | M120: - | N120: =E120 -> 4
A121: =$C$3&B121 -> 0540-5 | B121: =C121&-E121 -> 540-5 | C121: 540 | D121: - | E121: 5 | G121: =C121&-E121 -> 540-5 | H121: =VLOOKUP($B121,番号管理シート!$B:$D,3,FALSE) -> 0 | I121: VALENTINO | J121: ニット・セーター | K121: ウール/XXS | L121: =C121 -> 540 | M121: - | N121: =E121 -> 5
A122: =$C$3&B122 -> 0540-6 | B122: =C122&-E122 -> 540-6 | C122: 540 | D122: - | E122: 6 | G122: =C122&-E122 -> 540-6 | H122: =VLOOKUP($B122,番号管理シート!$B:$D,3,FALSE) -> 0 | I122: PRADA | J122: パンツ | K122: シルク100%/38 | L122: =C122 -> 540 | M122: - | N122: =E122 -> 6
... A181: =$C$3&B181 -> 0563-5 | B181: =C181&-E181 -> 563-5 | C181: 563 | D181: - | E181: 5 | G181: =C181&-E181 -> 563-5 | H181: =VLOOKUP($B181,番号管理シート!$B:$D,3,FALSE) -> 0 | I181: CHANEL | J181: スーツ・セットアップ | K181: 3点セット | L181: =C181 -> 563 | M181: - | N181: =E181 -> 5
A182: =$C$3&B182 -> 0563-6 | B182: =C182&-E182 -> 563-6 | C182: 563 | D182: - | E182: 6 | G182: =C182&-E182 -> 563-6 | H182: =VLOOKUP($B182,番号管理シート!$B:$D,3,FALSE) -> 0 | I182: CHANEL | J182: スーツ・セットアップ | L182: =C182 -> 563 | M182: - | N182: =E182 -> 6
A183: =$C$3&B183 -> 0563-7 | B183: =C183&-E183 -> 563-7 | C183: 563 | D183: - | E183: 7 | G183: =C183&-E183 -> 563-7 | H183: =VLOOKUP($B183,番号管理シート!$B:$D,3,FALSE) -> 0 | I183: CHANEL | J183: スーツ・セットアップ | L183: =C183 -> 563 | M183: - | N183: =E183 -> 7
A184: =$C$3&B184 -> 0563-8 | B184: =C184&-E184 -> 563-8 | C184: 563 | D184: - | E184: 8 | G184: =C184&-E184 -> 563-8 | H184: =VLOOKUP($B184,番号管理シート!$B:$D,3,FALSE) -> 0 | I184: CHANEL | J184: スーツ・セットアップ | L184: =C184 -> 563 | M184: - | N184: =E184 -> 8
A185: =$C$3&B185 -> 0563-9 | B185: =C185&-E185 -> 563-9 | C185: 563 | D185: - | E185: 9 | G185: =C185&-E185 -> 563-9 | H185: =VLOOKUP($B185,番号管理シート!$B:$D,3,FALSE) -> 0 | I185: CHANEL | J185: スーツ・セットアップ | L185: =C185 -> 563 | M185: - | N185: =E185 -> 9
A186: =$C$3&B186 -> 0563-10 | B186: =C186&-E186 -> 563-10 | C186: 563 | D186: - | E186: 10 | G186: =C186&-E186 -> 563-10 | H186: =VLOOKUP($B186,番号管理シート!$B:$D,3,FALSE) -> 0 | I186: CHANEL | J186: スーツ・セットアップ | K186: ジャケット・ベスト | L186: =C186 -> 563 | M186: - | N186: =E186 -> 10
A187: =$C$3&B187 -> 0565-2 | B187: =C187&-E187 -> 565-2 | C187: 565 | D187: - | E187: 2 | G187: =C187&-E187 -> 565-2 | H187: =VLOOKUP($B187,番号管理シート!$B:$D,3,FALSE) -> 0 | I187: DIOR | J187: Tシャツ | K187: 193J697A0677/S/メンズ | L187: =C187 -> 565 | M187: - | N187: =E187 -> 2
A188: =$C$3&B188 -> 0565-5 | B188: =C188&-E188 -> 565-5 | C188: 565 | D188: - | E188: 5 | G188: =C188&-E188 -> 565-5 | H188: =VLOOKUP($B188,番号管理シート!$B:$D,3,FALSE) -> 0 | I188: DIOR | J188: Tシャツ | K188: M/メンズ | L188: =C188 -> 565 | M188: - | N188: =E188 -> 5
A189: =$C$3&B189 -> 0568-6 | B189: =C189&-E189 -> 568-6 | C189: 568 | D189: - | E189: 6 | G189: =C189&-E189 -> 568-6 | H189: =VLOOKUP($B189,番号管理シート!$B:$D,3,FALSE) -> 0 | I189: BALENCIAGA | J189: Tシャツ | K189: 613969 TYK28/M/メンズ | L189: =C189 -> 568 | M189: - | N189: =E189 -> 6
A190: =$C$3&B190 -> 0569-1 | B190: =C190&-E190 -> 569-1 | C190: 569 | D190: - | E190: 1 | G190: =C190&-E190 -> 569-1 | H190: =VLOOKUP($B190,番号管理シート!$B:$D,3,FALSE) -> 0 | I190: CELINE | J190: トップス | K190: Tシャツ 白 | L190: =C190 -> 569 | M190: - | N190: =E190 -> 1
A191: =$C$3&B191 -> 0569-6 | B191: =C191&-E191 -> 569-6 | C191: 569 | D191: - | E191: 6 | G191: =C191&-E191 -> 569-6 | H191: =VLOOKUP($B191,番号管理シート!$B:$D,3,FALSE) -> 0 | I191: BURBERRY | J191: トップス | K191: ホースフェリー シャツ | L191: =C191 -> 569 | M191: - | N191: =E191 -> 6
A192: =$C$3&B192 -> 0574-2 | B192: =C192&-E192 -> 574-2 | C192: 574 | D192: - | E192: 2 | G192: =C192&-E192 -> 574-2 | H192: =VLOOKUP($B192,番号管理シート!$B:$D,3,FALSE) -> 0 | I192: Christian Dior | J192: ジャケット・ブルゾン | K192: ポリエステル/8/レディース/ブルー | L192: =C192 -> 574 | M192: - | N192: =E192 -> 2
A193: =$C$3&B193 -> 0576-3 | B193: =C193&-E193 -> 576-3 | C193: 576 | D193: - | E193: 3 | G193: =C193&-E193 -> 576-3 | H193: =VLOOKUP($B193,番号管理シート!$B:$D,3,FALSE) -> 0 | I193: CHANEL | J193: ニット・セーター | K193: P63293/コットン100%/36 | L193: =C193 -> 576 | M193: - | N193: =E193 -> 3
A194: =$C$3&B194 -> 0576-4 | B194: =C194&-E194 -> 576-4 | C194: 576 | D194: - | E194: 4 | G194: =C194&-E194 -> 576-4 | H194: =VLOOKUP($B194,番号管理シート!$B:$D,3,FALSE) -> 0 | I194: CHANEL | J194: コート | K194: ポリエステル100%/34/付属品:マフラー | L194: =C194 -> 576 | M194: - | N194: =E194 -> 4
A195: =$C$3&B195 -> 0576-5 | B195: =C195&-E195 -> 576-5 | C195: 576 | D195: - | E195: 5 | G195: =C195&-E195 -> 576-5 | H195: =VLOOKUP($B195,番号管理シート!$B:$D,3,FALSE) -> 0 | I195: CHANEL | J195: パーカー | K195: P63299/コットン100%/L | L195: =C195 -> 576 | M195: - | N195: =E195 -> 5
A196: =$C$3&B196 -> 0576-6 | B196: =C196&-E196 -> 576-6 | C196: 576 | D196: - | E196: 6 | G196: =C196&-E196 -> 576-6 | H196: =VLOOKUP($B196,番号管理シート!$B:$D,3,FALSE) -> 0 | I196: CHANEL | J196: シャツ | K196: コットン100%/42 | L196: =C196 -> 576 | M196: - | N196: =E196 -> 6
A197: =$C$3&B197 -> 0576-7 | B197: =C197&-E197 -> 576-7 | C197: 576 | D197: - | E197: 7 | G197: =C197&-E197 -> 576-7 | H197: =VLOOKUP($B197,番号管理シート!$B:$D,3,FALSE) -> 0 | I197: CHANEL | J197: シャツ | K197: コットン100%/40 | L197: =C197 -> 576 | M197: - | N197: =E197 -> 7
... A207: =$C$3&B207 -> 0582-4 | B207: =C207&-E207 -> 582-4 | C207: 582 | D207: - | E207: 4 | G207: =C207&-E207 -> 582-4 | H207: =VLOOKUP($B207,番号管理シート!$B:$D,3,FALSE) -> 0 | I207: FENDI | J207: ニット・セーター | K207: ウール100%/48/付属品:タグ | L207: =C207 -> 582 | M207: - | N207: =E207 -> 4
A208: =$C$3&B208 -> 0582-6 | B208: =C208&-E208 -> 582-6 | C208: 582 | D208: - | E208: 6 | G208: =C208&-E208 -> 582-6 | H208: =VLOOKUP($B208,番号管理シート!$B:$D,3,FALSE) -> 0 | I208: 出品取消 | J208: ニット・セーター | L208: =C208 -> 582 | M208: - | N208: =E208 -> 6
A209: =$C$3&B209 -> 0582-9 | B209: =C209&-E209 -> 582-9 | C209: 582 | D209: - | E209: 9 | G209: =C209&-E209 -> 582-9 | H209: =VLOOKUP($B209,番号管理シート!$B:$D,3,FALSE) -> 0 | I209: the low | J209: スカート | K209: 8024W2517/コットン/XS/付属品:タグ | L209: =C209 -> 582 | M209: - | N209: =E209 -> 9
A210: =$C$3&B210 -> 0582-10 | B210: =C210&-E210 -> 582-10 | C210: 582 | D210: - | E210: 10 | G210: =C210&-E210 -> 582-10 | H210: =VLOOKUP($B210,番号管理シート!$B:$D,3,FALSE) -> 0 | I210: FENDI | J210: ニット・セーター | K210: FZX621/シルク100%/38 | L210: =C210 -> 582 | M210: - | N210: =E210 -> 10
A211: =$C$3&B211 -> 0583-1 | B211: =C211&-E211 -> 583-1 | C211: 583 | D211: - | E211: 1 | G211: =C211&-E211 -> 583-1 | H211: =VLOOKUP($B211,番号管理シート!$B:$D,3,FALSE) -> 0 | I211: MONCLER | J211: ダウンジャケット・コート | K211: 4/レディース/VERN ダウンジャケット/付属品:袋、ハンガー | L211: =C211 -> 583 | M211: - | N211: =E211 -> 1
A212: =$C$3&B212 -> 0583-2 | B212: =C212&-E212 -> 583-2 | C212: 583 | D212: - | E212: 2 | G212: =C212&-E212 -> 583-2 | H212: =VLOOKUP($B212,番号管理シート!$B:$D,3,FALSE) -> 0 | I212: MONCLER | J212: ダウンジャケット・コート | K212: 5/レディース/NANTAUX ロゴプリント ダウンベスト/付属品:袋、ハンガー | L212: =C212 -> 583 | M212: - | N212: =E212 -> 2
A213: =$C$3&B213 -> 0583-3 | B213: =C213&-E213 -> 583-3 | C213: 583 | D213: - | E213: 3 | G213: =C213&-E213 -> 583-3 | H213: =VLOOKUP($B213,番号管理シート!$B:$D,3,FALSE) -> 0 | I213: MONCLER | J213: ダウンジャケット・コート | K213: レディース/TORCOL ダウンジャケット/付属品:タグ | L213: =C213 -> 583 | M213: - | N213: =E213 -> 3
A214: =$C$3&B214 -> 0583-4 | B214: =C214&-E214 -> 583-4 | C214: 583 | D214: - | E214: 4 | G214: =C214&-E214 -> 583-4 | H214: =VLOOKUP($B214,番号管理シート!$B:$D,3,FALSE) -> 0 | I214: MONCLER | J214: ダウンジャケット・コート | K214: レディース/ダウン×ニット カーディガン | L214: =C214 -> 583 | M214: - | N214: =E214 -> 4
A215: =$C$3&B215 -> 0583-5 | B215: =C215&-E215 -> 583-5 | C215: 583 | D215: - | E215: 5 | G215: =C215&-E215 -> 583-5 | H215: =VLOOKUP($B215,番号管理シート!$B:$D,3,FALSE) -> 0 | I215: MONCLER | J215: ダウンジャケット・コート | K215: レディース/AUBRY レディース ロングダウン/付属品:袋、ハンガー | L215: =C215 -> 583 | M215: - | N215: =E215 -> 5
A216: =$C$3&B216 -> 0583-6 | B216: =C216&-E216 -> 583-6 | C216: 583 | D216: - | E216: 6 | G216: =C216&-E216 -> 583-6 | H216: =VLOOKUP($B216,番号管理シート!$B:$D,3,FALSE) -> 0 | I216: MONCLER | J216: ダウンジャケット・コート | K216: レディース/ダウンコート PACHELLE/付属品:袋 | L216: =C216 -> 583 | M216: - | N216: =E216 -> 6
A217: =$C$3&B217 -> 0583-7 | B217: =C217&-E217 -> 583-7 | C217: 583 | D217: - | E217: 7 | G217: =C217&-E217 -> 583-7 | H217: =VLOOKUP($B217,番号管理シート!$B:$D,3,FALSE) -> 0 | I217: MONCLER | J217: ダウンジャケット・コート | K217: レディース/ロングダウンコート | L217: =C217 -> 583 | M217: - | N217: =E217 -> 7
A218: =$C$3&B218 -> 0584-10 | B218: =C218&-E218 -> 584-10 | C218: 584 | D218: - | E218: 10 | G218: =C218&-E218 -> 584-10 | H218: =VLOOKUP($B218,番号管理シート!$B:$D,3,FALSE) -> 0 | I218: HERMES | J218: パンツ | K218: 38/レディース | L218: =C218 -> 584 | M218: - | N218: =E218 -> 10
A219: =$C$3&B219 -> 0591-1 | B219: =C219&-E219 -> 591-1 | C219: 591 | D219: - | E219: 1 | G219: =C219&-E219 -> 591-1 | H219: =VLOOKUP($B219,番号管理シート!$B:$D,3,FALSE) -> 0 | I219: CHANEL | J219: トップス | L219: =C219 -> 591 | M219: - | N219: =E219 -> 1
A220: =$C$3&B220 -> 0591-2 | B220: =C220&-E220 -> 591-2 | C220: 591 | D220: - | E220: 2 | G220: =C220&-E220 -> 591-2 | H220: =VLOOKUP($B220,番号管理シート!$B:$D,3,FALSE) -> 0 | I220: CHANEL | J220: ワンピース | L220: =C220 -> 591 | M220: - | N220: =E220 -> 2
A221: =$C$3&B221 -> 0591-4 | B221: =C221&-E221 -> 591-4 | C221: 591 | D221: - | E221: 4 | G221: =C221&-E221 -> 591-4 | H221: =VLOOKUP($B221,番号管理シート!$B:$D,3,FALSE) -> 0 | I221: CHANEL | J221: スーツ・セットアップ | L221: =C221 -> 591 | M221: - | N221: =E221 -> 4
A222: =$C$3&B222 -> 0591-6 | B222: =C222&-E222 -> 591-6 | C222: 591 | D222: - | E222: 6 | G222: =C222&-E222 -> 591-6 | H222: =VLOOKUP($B222,番号管理シート!$B:$D,3,FALSE) -> 0 | I222: CHANEL | J222: アンサンブル | L222: =C222 -> 591 | M222: - | N222: =E222 -> 6
A223: =$C$3&B223 -> 0591-7 | B223: =C223&-E223 -> 591-7 | C223: 591 | D223: - | E223: 7 | G223: =C223&-E223 -> 591-7 | H223: =VLOOKUP($B223,番号管理シート!$B:$D,3,FALSE) -> 0 | I223: CHANEL | J223: カーディガン | L223: =C223 -> 591 | M223: - | N223: =E223 -> 7
A224: =$C$3&B224 -> 0591-8 | B224: =C224&-E224 -> 591-8 | C224: 591 | D224: - | E224: 8 | G224: =C224&-E224 -> 591-8 | H224: =VLOOKUP($B224,番号管理シート!$B:$D,3,FALSE) -> 0 | I224: CHANEL | J224: ワンピース | L224: =C224 -> 591 | M224: - | N224: =E224 -> 8
A225: =$C$3&B225 -> 0591-10 | B225: =C225&-E225 -> 591-10 | C225: 591 | D225: - | E225: 10 | G225: =C225&-E225 -> 591-10 | H225: =VLOOKUP($B225,番号管理シート!$B:$D,3,FALSE) -> 0 | I225: CHANEL | J225: トップス | L225: =C225 -> 591 | M225: - | N225: =E225 -> 10
A226: =$C$3&B226 -> 0592-3 | B226: =C226&-E226 -> 592-3 | C226: 592 | D226: - | E226: 3 | G226: =C226&-E226 -> 592-3 | H226: =VLOOKUP($B226,番号管理シート!$B:$D,3,FALSE) -> 0 | I226: HERMES | J226: カーディガン | K226: シルク/カシミヤ/レーヨン/38/付属品:・ガーメントケース・ハンガー | L226: =C226 -> 592 | M226: - | N226: =E226 -> 3
A227: =$C$3&B227 -> 0592-4 | B227: =C227&-E227 -> 592-4 | C227: 592 | D227: - | E227: 4 | G227: =C227&-E227 -> 592-4 | H227: =VLOOKUP($B227,番号管理シート!$B:$D,3,FALSE) -> 0 | I227: HERMES | J227: ワンピース | K227: 2E2809DO/シルク57%・コットン43%/34 | L227: =C227 -> 592 | M227: - | N227: =E227 -> 4
A228: =$C$3&B228 -> 0592-5 | B228: =C228&-E228 -> 592-5 | C228: 592 | D228: - | E228: 5 | G228: =C228&-E228 -> 592-5 | H228: =VLOOKUP($B228,番号管理シート!$B:$D,3,FALSE) -> 0 | I228: HERMES | J228: パンツ | K228: 4E4415DI/コットン51%/シルク40%/ポリアミド9%/40 | L228: =C228 -> 592 | M228: - | N228: =E228 -> 5
A229: =$C$3&B229 -> 0592-6 | B229: =C229&-E229 -> 592-6 | C229: 592 | D229: - | E229: 6 | G229: =C229&-E229 -> 592-6 | H229: =VLOOKUP($B229,番号管理シート!$B:$D,3,FALSE) -> 0 | I229: HERMES | J229: カーディガン | K229: 42 | L229: =C229 -> 592 | M229: - | N229: =E229 -> 6
A230: =$C$3&B230 -> 0592-7 | B230: =C230&-E230 -> 592-7 | C230: 592 | D230: - | E230: 7 | G230: =C230&-E230 -> 592-7 | H230: =VLOOKUP($B230,番号管理シート!$B:$D,3,FALSE) -> 0 | I230: HERMES | J230: Tシャツ | K230: コットン100%/38 | L230: =C230 -> 592 | M230: - | N230: =E230 -> 7
A231: =$C$3&B231 -> 0592-8 | B231: =C231&-E231 -> 592-8 | C231: 592 | D231: - | E231: 8 | G231: =C231&-E231 -> 592-8 | H231: =VLOOKUP($B231,番号管理シート!$B:$D,3,FALSE) -> 0 | I231: HERMES | J231: シャツ | K231: 綿100%/38/23SS/付属品:・ハンガー・タグ | L231: =C231 -> 592 | M231: - | N231: =E231 -> 8
A232: =$C$3&B232 -> 0592-9 | B232: =C232&-E232 -> 592-9 | C232: 592 | D232: - | E232: 9 | G232: =C232&-E232 -> 592-9 | H232: =VLOOKUP($B232,番号管理シート!$B:$D,3,FALSE) -> 0 | I232: HERMES | J232: パンツ | K232: コットン/36 | L232: =C232 -> 592 | M232: - | N232: =E232 -> 9
A233: =$C$3&B233 -> 0592-10 | B233: =C233&-E233 -> 592-10 | C233: 592 | D233: - | E233: 10 | G233: =C233&-E233 -> 592-10 | H233: =VLOOKUP($B233,番号管理シート!$B:$D,3,FALSE) -> 0 | I233: HERMES | J233: パンツ | K233: コットン/ナイロン/M | L233: =C233 -> 592 | M233: - | N233: =E233 -> 10
A234: =$C$3&B234 -> 0594-1 | B234: =C234&-E234 -> 594-1 | C234: 594 | D234: - | E234: 1 | G234: =C234&-E234 -> 594-1 | H234: =VLOOKUP($B234,番号管理シート!$B:$D,3,FALSE) -> 0 | I234: HERMES | J234: ワンピース | L234: =C234 -> 594 | M234: - | N234: =E234 -> 1
A235: =$C$3&B235 -> 0594-2 | B235: =C235&-E235 -> 594-2 | C235: 594 | D235: - | E235: 2 | G235: =C235&-E235 -> 594-2 | H235: =VLOOKUP($B235,番号管理シート!$B:$D,3,FALSE) -> 0 | I235: HERMES | J235: ワンピース | L235: =C235 -> 594 | M235: - | N235: =E235 -> 2
A236: =$C$3&B236 -> 0594-5 | B236: =C236&-E236 -> 594-5 | C236: 594 | D236: - | E236: 5 | G236: =C236&-E236 -> 594-5 | H236: =VLOOKUP($B236,番号管理シート!$B:$D,3,FALSE) -> 0 | I236: THOM BROWNE | J236: スーツ・セットアップ | L236: =C236 -> 594 | M236: - | N236: =E236 -> 5
A237: =$C$3&B237 -> 0594-6 | B237: =C237&-E237 -> 594-6 | C237: 594 | D237: - | E237: 6 | G237: =C237&-E237 -> 594-6 | H237: =VLOOKUP($B237,番号管理シート!$B:$D,3,FALSE) -> 0 | I237: GUCCI | J237: Tシャツ | K237: ×ノースフェイス/付属品:タグ | L237: =C237 -> 594 | M237: - | N237: =E237 -> 6
A238: =$C$3&B238 -> 0594-7 | B238: =C238&-E238 -> 594-7 | C238: 594 | D238: - | E238: 7 | G238: =C238&-E238 -> 594-7 | H238: =VLOOKUP($B238,番号管理シート!$B:$D,3,FALSE) -> 0 | I238: Jean Paul Gaultier | J238: トップス | L238: =C238 -> 594 | M238: - | N238: =E238 -> 7
A239: =$C$3&B239 -> 0594-9 | B239: =C239&-E239 -> 594-9 | C239: 594 | D239: - | E239: 9 | G239: =C239&-E239 -> 594-9 | H239: =VLOOKUP($B239,番号管理シート!$B:$D,3,FALSE) -> 0 | I239: me ISSEY MIYAKE | J239: トップス | L239: =C239 -> 594 | M239: - | N239: =E239 -> 9
A240: =$C$3&B240 -> 0594-10 | B240: =C240&-E240 -> 594-10 | C240: 594 | D240: - | E240: 10 | G240: =C240&-E240 -> 594-10 | H240: =VLOOKUP($B240,番号管理シート!$B:$D,3,FALSE) -> 0 | I240: PLEATS PLEASE | J240: ベスト | L240: =C240 -> 594 | M240: - | N240: =E240 -> 10
A241: =$C$3&B241 -> 0597-3 | B241: =C241&-E241 -> 597-3 | C241: 597 | D241: - | E241: 3 | G241: =C241&-E241 -> 597-3 | H241: =VLOOKUP($B241,番号管理シート!$B:$D,3,FALSE) -> 0 | I241: BOTTEGA VENETA | J241: Tシャツ | K241: 付属品:タグ | L241: =C241 -> 597 | M241: - | N241: =E241 -> 3
...

Sheet 番号管理シート
A1: 手競り番号 | B1: 商品番号 | C1: 入札金額 | D1: 100円未満切り捨て
A2: 1-1 | B2: 501-1 | C2: =VLOOKUP(A2,【事前入札】7月大阪アパレル大会!$B:$N,7,0) -> 0 | D2: =ROUNDDOWN(C2,-2) -> 0
A3: 1-2 | B3: 501-2 | C3: =VLOOKUP(A3,【事前入札】7月大阪アパレル大会!$B:$N,7,0) -> 0 | D3: =ROUNDDOWN(C3,-2) -> 0
A4: 1-3 | B4: 501-3 | C4: =VLOOKUP(A4,【事前入札】7月大阪アパレル大会!$B:$N,7,0) -> 0 | D4: =ROUNDDOWN(C4,-2) -> 0
A5: 1-4 | B5: 501-4 | C5: =VLOOKUP(A5,【事前入札】7月大阪アパレル大会!$B:$N,7,0) -> 0 | D5: =ROUNDDOWN(C5,-2) -> 0
A6: 1-5 | B6: 501-6 | C6: =VLOOKUP(A6,【事前入札】7月大阪アパレル大会!$B:$N,7,0) -> 0 | D6: =ROUNDDOWN(C6,-2) -> 0
A7: 1-6 | B7: 501-8 | C7: =VLOOKUP(A7,【事前入札】7月大阪アパレル大会!$B:$N,7,0) -> 0 | D7: =ROUNDDOWN(C7,-2) -> 0
A8: 1-7 | B8: 501-9 | C8: =VLOOKUP(A8,【事前入札】7月大阪アパレル大会!$B:$N,7,0) -> 0 | D8: =ROUNDDOWN(C8,-2) -> 0
A9: 1-8 | B9: 501-10 | C9: =VLOOKUP(A9,【事前入札】7月大阪アパレル大会!$B:$N,7,0) -> 0 | D9: =ROUNDDOWN(C9,-2) -> 0
A10: 1-9 | B10: 503-1 | C10: =VLOOKUP(A10,【事前入札】7月大阪アパレル大会!$B:$N,7,0) -> 0 | D10: =ROUNDDOWN(C10,-2) -> 0
A11: 1-10 | B11: 503-2 | C11: =VLOOKUP(A11,【事前入札】7月大阪アパレル大会!$B:$N,7,0) -> 0 | D11: =ROUNDDOWN(C11,-2) -> 0
A12: 2-1 | B12: 503-7 | C12: =VLOOKUP(A12,【事前入札】7月大阪アパレル大会!$B:$N,7,0) -> 0 | D12: =ROUNDDOWN(C12,-2) -> 0
A13: 2-2 | B13: 503-8 | C13: =VLOOKUP(A13,【事前入札】7月大阪アパレル大会!$B:$N,7,0) -> 0 | D13: =ROUNDDOWN(C13,-2) -> 0
... A801: 81-1 | B801: 793-10 | C801: =VLOOKUP(A801,【事前入札】7月大阪アパレル大会!$B:$N,7,0) -> 0 | D801: =ROUNDDOWN(C801,-2) -> 0
