Workbook

Sheet 9月4日バッグ大会【事前入札データ】 (ロックあり）
A1: - | B1: - | C1: - | D1: - | E1: - | F1: - | G1: - | H1: - | I1: - | J1: - | K1: - | L1: - | M1: - | N1: -
H2: =原本!A1&"入札フォーマット" -> 第279回YBA前期バッグ大会 2025-09-04入札フォーマット | O2: 箱番号 | P2: ー | Q2: 枝番号
F3: 現在入札金額合計： | H3: =SUM(H5:H1048576) -> 0 | J3: 入札業者様： | K3: =IF(Q5="","右側の入札業者情報を入力してください⇒",Q5) -> 右側の入札業者情報を入力してください⇒ | P3: - | R3: =O3&P3&Q3 -> - | S3: =IFERROR(IF(R3="","検索",HYPERLINK("#H"&MATCH(R3,G:G,0),"検索")),"対象が見つかりません") -> 検索
C4: 箱番号 | E4: 枝番号 | F4: 巻き | H4: 入札金額 | I4: ブランド | J4: 品目 | K4: 素材/備考 | L4: 箱番号 | N4: 枝番号
A5: =$C$3&B5 -> 1-1 | B5: =C5&-E5 -> 1-1 | C5: =原本!A4 -> 1 | D5: - | E5: =原本!B4 -> 1 | F5: =原本!C4 -> 0 | G5: =C5&-E5 -> 1-1 | I5: =原本!D4 -> LOUIS VUITTON | J5: =原本!E4 -> バッグ | K5: =原本!G4 -> モノグラム・オデオンPM/☆M56390 SF4112 /付属品:☆袋 | L5: =C5 -> 1 | M5: - | N5: =E5 -> 1 | O5: 会社名 | U5: 担当者
A6: =$C$3&B6 -> 1-2 | B6: =C6&-E6 -> 1-2 | C6: =原本!A5 -> 1 | D6: - | E6: =原本!B5 -> 2 | F6: =原本!C5 -> 0 | G6: =C6&-E6 -> 1-2 | I6: =原本!D5 -> LOUIS VUITTON | J6: =原本!E5 -> バッグ | K6: =原本!G5 -> 【別展】モノグラム・モントルグイユPM/☆M95565 SP5008 ※サイドヒビ無し/付属品:☆袋 | L6: =C6 -> 1 | M6: - | N6: =E6 -> 2 | O6: 電話番号
A7: =$C$3&B7 -> 1-3 | B7: =C7&-E7 -> 1-3 | C7: =原本!A6 -> 1 | D7: - | E7: =原本!B6 -> 3 | F7: =原本!C6 -> 0 | G7: =C7&-E7 -> 1-3 | I7: =原本!D6 -> LOUIS VUITTON | J7: =原本!E6 -> バッグ | K7: =原本!G6 -> 【別展】モノグラム・モンスリMM/☆M51136 SP0012 ※紐ヒビ無し/付属品:☆袋 | L7: =C7 -> 1 | M7: - | N7: =E7 -> 3
A8: =$C$3&B8 -> 1-4 | B8: =C8&-E8 -> 1-4 | C8: =原本!A7 -> 1 | D8: - | E8: =原本!B7 -> 4 | F8: =原本!C7 -> 0 | G8: =C8&-E8 -> 1-4 | I8: =原本!D7 -> LOUIS VUITTON | J8: =原本!E7 -> バッグ | K8: =原本!G7 -> モノグラム ・エストレーラMM/☆M41232 VI3101 /付属品:☆ストラップ・袋 | L8: =C8 -> 1 | M8: - | N8: =E8 -> 4 | O8: ※入札データはYBAオークションHPよりダウンロードしたものをご利用ください。 データの送付は、office@yokohama-auction.comまで送付ください。 データ締切：3日 AM7：00 までとなります。 締切時間をすぎたものは受付できない可能性がございますのでご了承くださいませ。 データのご提出は必ず「Excel」データでお願いいたします。 「numbers」などでご提出されないようご注意くださいませ。 ・入札は1000円単位となります。1000円未満の単位を入札された場合、すべて切り捨てとなります。 システムの関係上、入札取消となる場合もございますのでご注意ください。 ・段違いや入札金額の桁違いがありませんように、よくお確かめの上でご入力をお願い致します。 金額の変更等がありましたら、訂正後再度、フォーマットの送信とお電話でのご連絡をお願い致します。
A9: =$C$3&B9 -> 1-5 | B9: =C9&-E9 -> 1-5 | C9: =原本!A8 -> 1 | D9: - | E9: =原本!B8 -> 5 | F9: =原本!C8 -> 0 | G9: =C9&-E9 -> 1-5 | I9: =原本!D8 -> LOUIS VUITTON | J9: =原本!E8 -> バッグ | K9: =原本!G8 -> モノグラム・トータリーPM/☆M56688 FL3112 /付属品:☆袋 | L9: =C9 -> 1 | M9: - | N9: =E9 -> 5
A10: =$C$3&B10 -> 1-6 | B10: =C10&-E10 -> 1-6 | C10: =原本!A9 -> 1 | D10: - | E10: =原本!B9 -> 6 | F10: =原本!C9 -> 0 | G10: =C10&-E10 -> 1-6 | I10: =原本!D9 -> LOUIS VUITTON | J10: =原本!E9 -> バッグ | K10: =原本!G9 -> モノグラム・メニルモンタンPM/☆M40474 DU3151 ※縁切れ無し/付属品:☆袋 | L10: =C10 -> 1 | M10: - | N10: =E10 -> 6
A11: =$C$3&B11 -> 1-7 | B11: =C11&-E11 -> 1-7 | C11: =原本!A10 -> 1 | D11: - | E11: =原本!B10 -> 7 | F11: =原本!C10 -> 0 | G11: =C11&-E11 -> 1-7 | I11: =原本!D10 -> LOUIS VUITTON | J11: =原本!E10 -> バッグ | K11: =原本!G10 -> モノグラム・ティボリPM/☆M40143 VI2038 /付属品:☆袋 | L11: =C11 -> 1 | M11: - | N11: =E11 -> 7
A12: =$C$3&B12 -> 1-8 | B12: =C12&-E12 -> 1-8 | C12: =原本!A11 -> 1 | D12: - | E12: =原本!B11 -> 8 | F12: =原本!C11 -> 0 | G12: =C12&-E12 -> 1-8 | I12: =原本!D11 -> LOUIS VUITTON | J12: =原本!E11 -> バッグ | K12: =原本!G11 -> モノグラム・ティヴォリGM/☆M40144 SP1048 /付属品:☆袋 | L12: =C12 -> 1 | M12: - | N12: =E12 -> 8
A13: =$C$3&B13 -> 1-9 | B13: =C13&-E13 -> 1-9 | C13: =原本!A12 -> 1 | D13: - | E13: =原本!B12 -> 9 | F13: =原本!C12 -> 0 | G13: =C13&-E13 -> 1-9 | I13: =原本!D12 -> LOUIS VUITTON | J13: =原本!E12 -> バッグ | K13: =原本!G12 -> 【別展】モノグラム・クーサンGM/☆M51141 VI0064 ※ヒビ無し/付属品:☆袋 | L13: =C13 -> 1 | M13: - | N13: =E13 -> 9
A14: =$C$3&B14 -> 1-10 | B14: =C14&-E14 -> 1-10 | C14: =原本!A13 -> 1 | D14: - | E14: =原本!B13 -> 10 | F14: =原本!C13 -> 0 | G14: =C14&-E14 -> 1-10 | I14: =原本!D13 -> LOUIS VUITTON | J14: =原本!E13 -> バッグ | K14: =原本!G13 -> モノグラム・エヴァ/☆M95667 DU1171 /付属品:☆ストラップ・箱・袋 | L14: =C14 -> 1 | M14: - | N14: =E14 -> 10
A15: =$C$3&B15 -> 2-1 | B15: =C15&-E15 -> 2-1 | C15: =原本!A14 -> 2 | D15: - | E15: =原本!B14 -> 1 | F15: =原本!C14 -> 0 | G15: =C15&-E15 -> 2-1 | I15: =原本!D14 -> LOUIS VUITTON | J15: =原本!E14 -> バッグ | K15: =原本!G14 -> 【別展】グラフィット・ペガス５５/☆N23300 SR2171 ※サイド割れ無し/付属品:☆ハンガー・ガーメント・レインカバー・袋 | L15: =C15 -> 2 | M15: - | N15: =E15 -> 1
A16: =$C$3&B16 -> 2-2 | B16: =C16&-E16 -> 2-2 | C16: =原本!A15 -> 2 | D16: - | E16: =原本!B15 -> 2 | F16: =原本!C15 -> 0 | G16: =C16&-E16 -> 2-2 | I16: =原本!D15 -> LOUIS VUITTON | J16: =原本!E15 -> バッグ | K16: =原本!G15 -> 【別展】モノグラム・ぺガス５５/☆M23297 MB1049 ※サイド割れ無し/付属品:☆カデナ・鍵 | L16: =C16 -> 2 | M16: - | N16: =E16 -> 2
A17: =$C$3&B17 -> 2-3 | B17: =C17&-E17 -> 2-3 | C17: =原本!A16 -> 2 | D17: - | E17: =原本!B16 -> 3 | F17: =原本!C16 -> 0 | G17: =C17&-E17 -> 2-3 | I17: =原本!D16 -> LOUIS VUITTON | J17: =原本!E16 -> バッグ | K17: =原本!G16 -> 【別展】モノグラム・ウス・ポルト・アビ/☆M23434 SP0042 /付属品:☆ハンガー×2本・ネームタグ | L17: =C17 -> 2 | M17: - | N17: =E17 -> 3
A18: =$C$3&B18 -> 2-4 | B18: =C18&-E18 -> 2-4 | C18: =原本!A17 -> 2 | D18: - | E18: =原本!B17 -> 4 | F18: =原本!C17 -> 0 | G18: =C18&-E18 -> 2-4 | I18: =原本!D17 -> LOUIS VUITTON | J18: =原本!E17 -> バッグ | K18: =原本!G17 -> 【別展】モノグラムパンプキンドット・ネヴァーフルMM・ブロン/☆M40684 GI2152 /付属品:☆袋 | L18: =C18 -> 2 | M18: - | N18: =E18 -> 4
A19: =$C$3&B19 -> 2-5 | B19: =C19&-E19 -> 2-5 | C19: =原本!A18 -> 2 | D19: - | E19: =原本!B18 -> 5 | F19: =原本!C18 -> 0 | G19: =C19&-E19 -> 2-5 | I19: =原本!D18 -> LOUIS VUITTON | J19: =原本!E18 -> バッグ | K19: =原本!G18 -> マルチカラー・アルマ・ノワール/☆M92646 FL1023 /付属品:☆袋 | L19: =C19 -> 2 | M19: - | N19: =E19 -> 5
A20: =$C$3&B20 -> 2-6 | B20: =C20&-E20 -> 2-6 | C20: =原本!A19 -> 2 | D20: - | E20: =原本!B19 -> 6 | F20: =原本!C19 -> 0 | G20: =C20&-E20 -> 2-6 | I20: =原本!D19 -> LOUIS VUITTON | J20: =原本!E19 -> バッグ | K20: =原本!G19 -> 【別展】アズール・ノエ/☆N42222 AR2017 ※紐ヒビ無し/付属品:☆袋 | L20: =C20 -> 2 | M20: - | N20: =E20 -> 6
... A4000: =$C$3&B4000 -> 00 | B4000: =C4000&-E4000 -> 00 | C4000: =原本!A3999 -> 0 | D4000: - | E4000: =原本!B3999 -> 0 | F4000: =原本!C3999 -> 0 | G4000: =C4000&-E4000 -> 00 | I4000: =原本!D3999 -> 0 | J4000: =原本!E3999 -> 0 | K4000: =原本!G3999 -> 0 | L4000: =C4000 -> 0 | M4000: - | N4000: =E4000 -> 0
A4001: =$C$3&B4001 -> 0 | B4001: =C4001&-E4001 -> 0 | D4001: - | G4001: =C4001&-E4001 -> 0 | L4001: =C4001 -> 0 | M4001: - | N4001: =E4001 -> 0
A4002: =$C$3&B4002 -> 0 | B4002: =C4002&-E4002 -> 0 | D4002: - | G4002: =C4002&-E4002 -> 0 | L4002: =C4002 -> 0 | M4002: - | N4002: =E4002 -> 0
A4003: =$C$3&B4003 -> 0 | B4003: =C4003&-E4003 -> 0 | D4003: - | G4003: =C4003&-E4003 -> 0 | L4003: =C4003 -> 0 | M4003: - | N4003: =E4003 -> 0
A4004: =$C$3&B4004 -> 0 | B4004: =C4004&-E4004 -> 0 | D4004: - | G4004: =C4004&-E4004 -> 0 | L4004: =C4004 -> 0 | M4004: - | N4004: =E4004 -> 0
A4005: =$C$3&B4005 -> 0 | B4005: =C4005&-E4005 -> 0 | D4005: - | G4005: =C4005&-E4005 -> 0 | L4005: =C4005 -> 0 | M4005: - | N4005: =E4005 -> 0
A4006: =$C$3&B4006 -> 0 | B4006: =C4006&-E4006 -> 0 | D4006: - | G4006: =C4006&-E4006 -> 0 | L4006: =C4006 -> 0 | M4006: - | N4006: =E4006 -> 0
A4007: =$C$3&B4007 -> 0 | B4007: =C4007&-E4007 -> 0 | D4007: - | G4007: =C4007&-E4007 -> 0 | L4007: =C4007 -> 0 | M4007: - | N4007: =E4007 -> 0
A4008: =$C$3&B4008 -> 0 | B4008: =C4008&-E4008 -> 0 | D4008: - | G4008: =C4008&-E4008 -> 0 | L4008: =C4008 -> 0 | M4008: - | N4008: =E4008 -> 0
A4009: =$C$3&B4009 -> 0 | B4009: =C4009&-E4009 -> 0 | D4009: - | G4009: =C4009&-E4009 -> 0 | L4009: =C4009 -> 0 | M4009: - | N4009: =E4009 -> 0
A4010: =$C$3&B4010 -> 0 | B4010: =C4010&-E4010 -> 0 | D4010: - | G4010: =C4010&-E4010 -> 0 | L4010: =C4010 -> 0 | M4010: - | N4010: =E4010 -> 0
A4011: =$C$3&B4011 -> 0 | B4011: =C4011&-E4011 -> 0 | D4011: - | G4011: =C4011&-E4011 -> 0 | L4011: =C4011 -> 0 | M4011: - | N4011: =E4011 -> 0
A4012: =$C$3&B4012 -> 0 | B4012: =C4012&-E4012 -> 0 | D4012: - | G4012: =C4012&-E4012 -> 0 | L4012: =C4012 -> 0 | M4012: - | N4012: =E4012 -> 0
... A4200: =$C$3&B4200 -> 0 | B4200: =C4200&-E4200 -> 0 | D4200: - | G4200: =C4200&-E4200 -> 0 | L4200: =C4200 -> 0 | M4200: - | N4200: =E4200 -> 0

Sheet 原本
A1: 第279回YBA前期バッグ大会 2025-09-04
A3: 箱番号 | B3: No | C3: 巻き | D3: ブランド | E3: 大分類 | F3: 中分類 | G3: 特徴 | H3: 備考
A4: 1 | B4: 1 | D4: LOUIS VUITTON | E4: バッグ | F4: その他 | G4: モノグラム・オデオンPM/☆M56390 SF4112 /付属品:☆袋
A5: 1 | B5: 2 | D5: LOUIS VUITTON | E5: バッグ | F5: その他 | G5: 【別展】モノグラム・モントルグイユPM/☆M95565 SP5008 ※サイドヒビ無し/付属品:☆袋
A6: 1 | B6: 3 | D6: LOUIS VUITTON | E6: バッグ | F6: その他 | G6: 【別展】モノグラム・モンスリMM/☆M51136 SP0012 ※紐ヒビ無し/付属品:☆袋
A7: 1 | B7: 4 | D7: LOUIS VUITTON | E7: バッグ | F7: その他 | G7: モノグラム ・エストレーラMM/☆M41232 VI3101 /付属品:☆ストラップ・袋
A8: 1 | B8: 5 | D8: LOUIS VUITTON | E8: バッグ | F8: その他 | G8: モノグラム・トータリーPM/☆M56688 FL3112 /付属品:☆袋
A9: 1 | B9: 6 | D9: LOUIS VUITTON | E9: バッグ | F9: その他 | G9: モノグラム・メニルモンタンPM/☆M40474 DU3151 ※縁切れ無し/付属品:☆袋
A10: 1 | B10: 7 | D10: LOUIS VUITTON | E10: バッグ | F10: その他 | G10: モノグラム・ティボリPM/☆M40143 VI2038 /付属品:☆袋
A11: 1 | B11: 8 | D11: LOUIS VUITTON | E11: バッグ | F11: その他 | G11: モノグラム・ティヴォリGM/☆M40144 SP1048 /付属品:☆袋
A12: 1 | B12: 9 | D12: LOUIS VUITTON | E12: バッグ | F12: その他 | G12: 【別展】モノグラム・クーサンGM/☆M51141 VI0064 ※ヒビ無し/付属品:☆袋
A13: 1 | B13: 10 | D13: LOUIS VUITTON | E13: バッグ | F13: その他 | G13: モノグラム・エヴァ/☆M95667 DU1171 /付属品:☆ストラップ・箱・袋
A14: 2 | B14: 1 | D14: LOUIS VUITTON | E14: バッグ | F14: その他 | G14: 【別展】グラフィット・ペガス５５/☆N23300 SR2171 ※サイド割れ無し/付属品:☆ハンガー・ガーメント・レインカバー・袋
A15: 2 | B15: 2 | D15: LOUIS VUITTON | E15: バッグ | F15: その他 | G15: 【別展】モノグラム・ぺガス５５/☆M23297 MB1049 ※サイド割れ無し/付属品:☆カデナ・鍵
... A68: 7 | B68: 5 | D68: GUCCI | E68: バッグ | F68: ショルダーバッグ | G68: 510304 /インターロッキング
A69: 7 | B69: 6 | D69: GUCCI | E69: バッグ | F69: ショルダーバッグ | G69: 696075
A70: 7 | B70: 7 | D70: GUCCI | E70: バッグ | F70: ショルダーバッグ | G70: 449413 /GGキャンバス/付属品:保存袋
A71: 7 | B71: 8 | D71: GUCCI | E71: バッグ | F71: ショルダーバッグ | G71: 779865/GGスプリーム/付属品:保存袋
A72: 7 | B72: 9 | D72: GUCCI | E72: バッグ | F72: ハンドバッグ | G72: 449654 /マイクロGG/付属品:ストラップ
A73: 7 | B73: 10 | D73: GUCCI | E73: バッグ | F73: ハンドバッグ | G73: 233269 /GGスプリーム
A74: 8 | B74: 1 | D74: LOUIS VUITTON | E74: バッグ | F74: ハンドバッグ | G74: カバボブール/ダミエ
A75: 8 | B75: 2 | D75: LOUIS VUITTON | E75: バッグ | F75: ハンドバッグ | G75: ティボリPM/モノグラム
A76: 8 | B76: 3 | D76: LOUIS VUITTON | E76: バッグ | F76: ハンドバッグ | G76: レティーロPM/モノグラム/付属品:保存袋,ストラップ,パドロック,クロシェット,鍵2
A77: 8 | B77: 4 | D77: LOUIS VUITTON | E77: バッグ | F77: ショルダーバッグ | G77: ナノスピーディ/モノグラム/付属品:ストラップ,箱,保存袋
A78: 8 | B78: 5 | D78: LOUIS VUITTON | E78: バッグ | F78: ショルダーバッグ | G78: アーツィMM/アンプラント/付属品:チャーム
A79: 8 | B79: 6 | D79: LOUIS VUITTON | E79: バッグ | F79: ハンドバッグ | G79: プティット ノエ トランク/モノグラム
A80: 8 | B80: 7 | D80: LOUIS VUITTON | E80: バッグ | F80: ハンドバッグ | G80: 【別展】キーポルバンドリエール25/モノグラムアクアガーデン/RFID/付属品:ストラップ,ネームタグ
A81: 8 | B81: 8 | D81: LOUIS VUITTON | E81: バッグ | F81: トートバッグ | G81: 【別展】オンザゴーMM/アンプラント/RFID/付属品:保存袋
... A546: 55 | B546: 5 | D546: FENDI | E546: バッグ | F546: ショルダーバッグ | G546: ﾋﾟｰｶﾌﾞｰﾐﾆ/付属品:ストラップ
A547: 55 | B547: 6 | D547: BVLGARI | E547: バッグ | F547: ハンドバッグ
A548: 55 | B548: 7 | D548: JIMMY CHOO | E548: バッグ | F548: ショルダーバッグ | G548: ﾛｻﾞﾘｰ/付属品:保存袋,ストラップ
A549: 56 | B549: 1 | D549: CHANEL | E549: バッグ | F549: ショルダーバッグ | G549: タッセル付きチェンショルダーバッグ/ラムスキン/2726800/付属品:カード,シール
A550: 56 | B550: 2 | D550: Christian Dior | E550: バッグ | F550: ハンドバッグ | G550: ブックトートミニ/キャンバス
A551: 56 | B551: 3 | D551: GUCCI | E551: バッグ | F551: ショルダーバッグ | G551: 476432 ディオニュソス チェーンショルダーバッグ/キャンバス/付属品:箱,保存袋,ストラップ
A552: 56 | B552: 4 | D552: CHANEL | E552: 小物 | F552: 財布・マネークリップ | G552: ラウンドファスナー長財布/ラムスキン/16958080/付属品:箱,カード,シール
A553: 56 | B553: 5 | D553: BOTTEGA VENETA | E553: バッグ | F553: セカンドバッグ | G553: イントレチャート クラッチバッグ/レザー/付属品:保存袋
A554: 56 | B554: 6 | D554: Chloe | E554: バッグ | F554: トートバッグ | G554: ウッディートート/キャンバス
A555: 56 | B555: 7 | D555: Berluti | E555: 小物 | F555: 財布・マネークリップ | G555: エスパスエンスクリット/レザー/付属品:箱,保存袋
A556: 56 | B556: 8 | D556: HERMES | E556: 小物 | F556: アクセサリー | G556: チョーカー/バッファローホーン/付属品:箱
A557: 56 | B557: 9 | D557: GUCCI | E557: バッグ | F557: ショルダーバッグ | G557: 443497 チェンショルダーバッグ/レザー/付属品:箱,保存袋
...
